BEGIN:VCALENDAR
VERSION:2.0
PRODID:http://www.infomax-online.de/imxeventmanager/
METHOD:PUBLISH
BEGIN:VTIMEZONE
TZID:Europe/Berlin
TZURL:http://tzurl.org/zoneinfo-outlook/Europe/Berlin
X-LIC-LOCATION:Europe/Berlin
END:VTIMEZONE
BEGIN:VEVENT
UID:69ed7c1371775
LOCATION:Alte Burg 1, 19306 Neustadt-Glewe
SUMMARY;ENCODING=QUOTED-PRINTABLE:Burgfräuleinwahl
DESCRIPTION;ENCODING=QUOTED-PRINTABLE:Konzert & Unterhaltung auf der Burg Neustadt-Glewe=0D=0A=0D=0AAm 1. März 2025, 19 Uhr, wird auf der Burg Neustadt-Glewe das neue=0D=0ABurgfäulein gekürt.=0D=0A=0D=0ASeid mit dabei und erlebt einen unterhaltsamer Abend mit spannenden=0D=0AAufgaben=0D=0A=0D=0A& toller Live-Musik mit der Mittelalterband „Fortuna Musica“!=0D=0A=0D=0A =0D=0A
URL;VALUE=URI:https://hamburgwhl.infomaxnet.de/standard_widget_de/e-burgfraeuleinwahl?eventDateId=30102030&widgetToken=22vcqFKw4GE.&
CLASS:PUBLIC
DTSTART:20260426T110000
DTSTAMP:20260426T044435
END:VEVENT
END:VCALENDAR