BEGIN:VCALENDAR
VERSION:2.0
PRODID:http://www.infomax-online.de/imxeventmanager/
METHOD:PUBLISH
BEGIN:VTIMEZONE
TZID:Europe/Berlin
TZURL:http://tzurl.org/zoneinfo-outlook/Europe/Berlin
X-LIC-LOCATION:Europe/Berlin
END:VTIMEZONE
BEGIN:VEVENT
UID:69e7bc1f65b22
LOCATION:Hansaring 146, 24534 Neumünster
SUMMARY;ENCODING=QUOTED-PRINTABLE:Frauenkreis
DESCRIPTION;ENCODING=QUOTED-PRINTABLE:In diesem Kreis beschäftigen sich Frauen mit selbst gewählten=0D=0AThemen. Vorträge, Diskussionen und vieles mehr. Schon so manche=0D=0AFreundschaft ist hier entstanden. DER FRAUENKREIS TRIFFT SICH EINMAL=0D=0AIM MONAT DIENSTAGS VON 15.00 UHR BIS 16.30 UHR IM GEMEINDEHAUS.=0D=0A=0D=0AIN UNSEREM KREIS SIND NEUE, INTERESSIERTE FRAUEN HERZLICH=0D=0AWILLKOMMEN. =0D=0A=0D=0AWeitere Infos finden Sie auf unserer Website=0D=0A[https://www.bugenhagen-nms.de/erwachsene-und-senioren/frauenkreis]=0D=0A=0D=0ABei Fragen wenden Sie sich gern an Frau Bertow, Hansaring 146, 24534=0D=0ANeumünster, Tel. 04321 / 268 3376, E-Mail: bugenhagenkgnms@web.de=0D=0A=0D=0ALEITUNG=0D=0A=0D=0AFr. Bertow=0D=0A=0D=0AVERANSTALTER=0D=0A=0D=0A	* Ev.-Luth. Bugenhagen-Kirchengemeinde Neumünster=0D=0A[https://www.nordkirche.de/institution/?nkci=5776]=0D=0A=0D=0A
URL;VALUE=URI:https://hamburgwhl.infomaxnet.de/standard_widget_de/e-frauenkreis-25?eventDateId=30102012&widgetToken=22vcqFKw4GE.&
CLASS:PUBLIC
DTSTART:20260421T150000
DTSTAMP:20260421T200415
END:VEVENT
END:VCALENDAR