BEGIN:VCALENDAR
VERSION:2.0
PRODID:http://www.infomax-online.de/imxeventmanager/
METHOD:PUBLISH
BEGIN:VTIMEZONE
TZID:Europe/Berlin
TZURL:http://tzurl.org/zoneinfo-outlook/Europe/Berlin
X-LIC-LOCATION:Europe/Berlin
END:VTIMEZONE
BEGIN:VEVENT
UID:69e7b7c628ee5
LOCATION:Am Markt 14a, 25554 Wilster
SUMMARY;ENCODING=QUOTED-PRINTABLE:Kaffeehaus und Spielenachmittag
DESCRIPTION;ENCODING=QUOTED-PRINTABLE:Sonntags wird es im Kulturhaus Wilster gemütlich:=0D=0A=0D=0AZu selbstgebackenem Kuchen gibt es kalte und warme Getränke.=0D=0A=0D=0AWer mag kann sich durch unsere Spielesammlung probieren und nette=0D=0ALeute kennenlernen.=0D=0A=0D=0AEintritt frei, Spenden willkommen.=0D=0A
URL;VALUE=URI:https://hamburgwhl.infomaxnet.de/standard_widget_de/e-kaffeehaus-und-spielenachmittag-27?eventDateId=30101877&widgetToken=22vcqFKw4GE.&
CLASS:PUBLIC
DTSTART:20260426T090000
DTSTAMP:20260421T194542
END:VEVENT
END:VCALENDAR