BEGIN:VCALENDAR
VERSION:2.0
PRODID:http://www.infomax-online.de/imxeventmanager/
METHOD:PUBLISH
BEGIN:VTIMEZONE
TZID:Europe/Berlin
TZURL:http://tzurl.org/zoneinfo-outlook/Europe/Berlin
X-LIC-LOCATION:Europe/Berlin
END:VTIMEZONE
BEGIN:VEVENT
UID:69ea2294a69b9
LOCATION:Am Markt 14a, 25554 Wilster
SUMMARY;ENCODING=QUOTED-PRINTABLE:Filmclub - Überraschungsfilm
DESCRIPTION;ENCODING=QUOTED-PRINTABLE:In Wohnzimmer-Atmosphäre werden besondere Filme präsentiert, alte=0D=0ASchätze ausgegraben und Klassiker der Filmgeschichte gezeigt.=0D=0A=0D=0ANach dem Film lädt der Filmclub zum Verweilen und Diskutieren in=0D=0Agemütlicher Runde ein.=0D=0A=0D=0ADie Titel dürfen wir leider nicht öffentlich ankündigen. Ihr findet=0D=0Asie als Aushang im Kulturhaus oder könnt sie per E-Mail anfragen.=0D=0A=0D=0AEbenso sind die Veranstalter*innen für konkrete Wünsche offen.=0D=0A=0D=0AEinlass ist 19:30 Uhr.=0D=0A=0D=0ADer Eintritt zum Filmclub ist frei. Eure Spenden helfen uns bei der=0D=0ADeckung der Kosten für Snacks, Getränke, Energie und Miete,=0D=0Afinanzieren aber auch die nicht unerheblichen Kosten für Filmlizenz=0D=0Aund GEMA-Beiträge.=0D=0A
URL;VALUE=URI:https://hamburgwhl.infomaxnet.de/standard_widget_de/e-filmclub-ueberraschungsfilm-1?eventDateId=30101874&widgetToken=22vcqFKw4GE.&
CLASS:PUBLIC
DTSTART:20260424T200000
DTSTAMP:20260423T154556
END:VEVENT
END:VCALENDAR