BEGIN:VCALENDAR
VERSION:2.0
PRODID:http://www.infomax-online.de/imxeventmanager/
METHOD:PUBLISH
BEGIN:VTIMEZONE
TZID:Europe/Berlin
TZURL:http://tzurl.org/zoneinfo-outlook/Europe/Berlin
X-LIC-LOCATION:Europe/Berlin
END:VTIMEZONE
BEGIN:VEVENT
UID:69e8d1a2d7540
LOCATION:Südstrand 10, 23775 Großenbrode
SUMMARY;ENCODING=QUOTED-PRINTABLE:Fahrrad-Tour "Großenbrode rundum"
DESCRIPTION;ENCODING=QUOTED-PRINTABLE:Volker Schildknecht aus Großenbrode bietet für alle Gäste und=0D=0AEinheimische eine geführte und gemütliche Fahrradtour, mit vielen=0D=0Awissenswerten Stopps, durch die schöne Natur in und um Großenbrode=0D=0Aan. Die Tour ist kostenlos und dauert ca. 3-4 Stunden. Änderungen=0D=0Avorbehalten. Die Teilnahme erfolgt freiwillig und auf eigene Gefahr.=0D=0AWenn das Wetter keine Radtour zulässt wird alternativ ein Besuch der=0D=0AHeimatkundeausstellung angeboten.=0D=0A
URL;VALUE=URI:https://hamburgwhl.infomaxnet.de/standard_widget_de/e-fahrrad-tour-grossenbrode-rundum-30?eventDateId=30099567&widgetToken=22vcqFKw4GE.&
CLASS:PUBLIC
DTSTART:20260423T141500
DTSTAMP:20260422T154818
END:VEVENT
END:VCALENDAR