BEGIN:VCALENDAR
VERSION:2.0
PRODID:http://www.infomax-online.de/imxeventmanager/
METHOD:PUBLISH
BEGIN:VTIMEZONE
TZID:Europe/Berlin
TZURL:http://tzurl.org/zoneinfo-outlook/Europe/Berlin
X-LIC-LOCATION:Europe/Berlin
END:VTIMEZONE
BEGIN:VEVENT
UID:69e5f02b48fc2
LOCATION:Röntgenstraße 22, 19055 Schwerin
SUMMARY;ENCODING=QUOTED-PRINTABLE:Quatschkommode - "Räuber auf der Hut - Ein Räuberkind fasst Mut"
DESCRIPTION;ENCODING=QUOTED-PRINTABLE:Feinstes Musiktheater zum Mitmachen ab 3 Jahre=0D=0A=0D=0A =0D=0A=0D=0AWie ein Räuberkind seinen Mut findet.=0D=0A=0D=0A Den Mut Nein zu sagen.=0D=0A=0D=0ADen Mut über sich hinaus zu wachsen.=0D=0A=0D=0ADen Mut seinen Räuberpapa aus dem Gefängnis zu befreien.=0D=0A=0D=0ADen Mut seinen eigenen Weg zu gehen.=0D=0A=0D=0AVom Räuberkind zur Quatschkommode.=0D=0A=0D=0A =0D=0A=0D=0ABesetzung:=0D=0A=0D=0ARABE, RÄUBERKIND, RÄUBER UND QUATSCHKOMMODE:=0D=0A=0D=0AChristian Zebisch, Gesang, Akkordeon, Minidrumset=0D=0A=0D=0A =0D=0A=0D=0ATEXTE UND MUSIK:=0D=0A=0D=0AChristian Zebisch=0D=0A=0D=0AMit freundlicher Unterstützung des Landes Mecklenburg-Vorpommern –=0D=0AMinisterium für Wissenschaft, Kultur, Bundes- und=0D=0AEuropaangelegenheiten=0D=0A=0D=0A =0D=0A=0D=0A =0D=0A=0D=0A =0D=0A
URL;VALUE=URI:https://hamburgwhl.infomaxnet.de/standard_widget_de/e-quatschkommode-raeuber-auf-der-hut-ein-raeuberkind-fasst-mut?eventDateId=30099290&widgetToken=22vcqFKw4GE.&
CLASS:PUBLIC
DTSTART:20260421T110000
DTSTAMP:20260420T112147
END:VEVENT
END:VCALENDAR