BEGIN:VCALENDAR
VERSION:2.0
PRODID:http://www.infomax-online.de/imxeventmanager/
METHOD:PUBLISH
BEGIN:VTIMEZONE
TZID:Europe/Berlin
TZURL:http://tzurl.org/zoneinfo-outlook/Europe/Berlin
X-LIC-LOCATION:Europe/Berlin
END:VTIMEZONE
BEGIN:VEVENT
UID:69ea6165771b5
LOCATION:Feldstraße 66, 20359 Hamburg
SUMMARY;ENCODING=QUOTED-PRINTABLE:Gemeinsam gegen das Vergessen, Lesung mit Musik
DESCRIPTION;ENCODING=QUOTED-PRINTABLE:Der Flakturm IV an der Feldstraße ist seit der Eröffnung des grünen=0D=0AAufbaus als neues Hamburger Wahrzeichen bekannt. Der begrünte Aufbau=0D=0Amit dem öffentlich zugänglichen Dachgarten zieht Menschen aus aller=0D=0AWelt an. In dieser Veranstaltung wird der menschenverachtenden=0D=0AGeschichte des Bauwerks im Nationalsozialismus gedacht, das im 2.=0D=0AWeltkrieg als Gefechtsturm und Schutzbunker gedient hat. Es werden=0D=0Aliterarische Texte zur Auseinandersetzung mit dem Nationalsozialismus,=0D=0Ader Geschichte des Bauwerks, zur Entstehung unter Einsatz von=0D=0AZwangsarbeit und zu den Opfern von Luftangriffen während des 2.=0D=0AWeltkrieges, nicht nur in Hamburg und Deutschland, vorgetragen. Die=0D=0ABratsche ist ein Instrument mit großer Ausdruckskraft. Die Musik=0D=0Agreift die Stimmung und die Inhalte der Texte auf=0D=0A=0D=0ADie Veranstaltung findet im ehemaligen Ersatzleitstand des Flakturms=0D=0Aan der Feldstraße statt. Dieser repräsentiert die Gefechtsfunktion=0D=0Ades Bunkers und ist auch nach dem grünen Aufbau als authentischer Ort=0D=0Ades denkmalgeschützten Bauwerks zu besichtigen. Leider stehen nur=0D=0Awenige Sitzplätze im Leitstand zur Verfügung. Bei großem Interesse=0D=0Awird versucht, die Veranstaltung auch außen zu übertragen.=0D=0A=0D=0ADurch die ca. 60minütige Veranstaltung führt der Verein Hilldegarden=0D=0Ae.V., der den Informations- und Erinnerungsort zur Geschichte des=0D=0AFlakturms in verschiedenen Etappen aufbaut.=0D=0A=0D=0AEintritt frei, der Platz ist begrenzt; Anmeldung erbeten unter=0D=0Aanmeldung@hilldegarden.org.=0D=0A=0D=0A(Bei Anmeldung per Mail bitte die Veranstaltung nennen)=0D=0A
URL;VALUE=URI:https://hamburgwhl.infomaxnet.de/standard_widget_de/e-gemeinsam-gegen-das-vergessen-lesung-mit-musik?eventDateId=30098655&widgetToken=22vcqFKw4GE.&
CLASS:PUBLIC
DTSTART:20260426T150000
DTSTAMP:20260423T201357
END:VEVENT
END:VCALENDAR