BEGIN:VCALENDAR
VERSION:2.0
PRODID:http://www.infomax-online.de/imxeventmanager/
METHOD:PUBLISH
BEGIN:VTIMEZONE
TZID:Europe/Berlin
TZURL:http://tzurl.org/zoneinfo-outlook/Europe/Berlin
X-LIC-LOCATION:Europe/Berlin
END:VTIMEZONE
BEGIN:VEVENT
UID:69ea8e38b5c44
LOCATION:Feldstraße 66, 20359 Hamburg
SUMMARY;ENCODING=QUOTED-PRINTABLE:Musikalisch-Textliche Intervention gegen das Vergessen
DESCRIPTION;ENCODING=QUOTED-PRINTABLE:Im ehemaligen Leitstand des Flakturms am Heiligengeistfeld gestalten=0D=0Adas Ensemble Resonanz und Hilldegarden e.V. im Rahmen der Woche des=0D=0AGedenkens eine musikalisch-textliche Intervention. Im Mittelpunkt=0D=0Asteht der historische Raum: einst Teil der nationalsozialistischen=0D=0AKriegsarchitektur, wird er für die Dauer der Veranstaltung zu einem=0D=0AOrt des Erinnerns und Innehaltens.=0D=0A=0D=0AKlassische Werke für Violine solo begegnen ausgewählten Texten mit=0D=0ABezug zu Hamburg und der Zeit des Nationalsozialismus. Eine zweite=0D=0AGeige greift die Musik auf, spielt mit ihr weiter und führt sie in=0D=0Adie Gegenwart – in improvisierten, vom Jazz geprägten Passagen=0D=0Aentsteht ein Dialog zwischen Vergangenheit und Heute.=0D=0A=0D=0AJuditha Haeberlin, in Hamburg aufgewachsen, ist Geigerin des Ensemble=0D=0AResonanz. Sie war u. a. Dozentin am Koninklijk Conservatorium Den Haag=0D=0Asowie stellvertretende Erste Konzertmeisterin des=0D=0ARadiokammerorchesters Hilversum. Friedmar Hitzer ist Jazzgeiger und=0D=0AImprovisator. Er studierte in Arnhem und arbeitet in Formationen=0D=0Azwischen Jazz, improvisierter Musik und Musiktheater. Er lebt in=0D=0AAmsterdam.=0D=0A=0D=0AOrt: Grüner Bunker, Feldstraße 66, 20359 Hamburg , Ehemaliger=0D=0ALeitstand (Level 0), Dach des grauen Bunkers. Zugang entweder über=0D=0Aden Bergpfad oder (nach Absprache) über den Fahrstuhl an der Seite=0D=0Azum Heiligengeistfeld=0D=0A=0D=0AEintritt frei, der Platz ist begrenzt; Anmeldung erbeten unter=0D=0Aanmeldung@hilldegarden.org. (Bei Anmeldungen per Mail bitte die=0D=0AVeranstaltung nennen)=0D=0A
URL;VALUE=URI:https://hamburgwhl.infomaxnet.de/standard_widget_de/e-musikalisch-textliche-intervention-gegen-das-vergessen?eventDateId=30098653&widgetToken=22vcqFKw4GE.&
CLASS:PUBLIC
DTSTART:20260425T110000
DTSTAMP:20260423T232512
END:VEVENT
END:VCALENDAR