BEGIN:VCALENDAR
VERSION:2.0
PRODID:http://www.infomax-online.de/imxeventmanager/
METHOD:PUBLISH
BEGIN:VTIMEZONE
TZID:Europe/Berlin
TZURL:http://tzurl.org/zoneinfo-outlook/Europe/Berlin
X-LIC-LOCATION:Europe/Berlin
END:VTIMEZONE
BEGIN:VEVENT
UID:69ea354f8ff59
LOCATION:Feldstraße 66, 20359 Hamburg
SUMMARY;ENCODING=QUOTED-PRINTABLE:Filmische Spurensuche zu Zwangsarbeit in der NS- Zeit in Hamburg
DESCRIPTION;ENCODING=QUOTED-PRINTABLE:Es werden zwei Videofilme von Jürgen Kinter gezeigt, die im Auftrag=0D=0Aund in Zusammenarbeit mit dem Freundeskreis KZ-Gedenkstätte=0D=0ANeuengamme entstanden. Einführung durch den Filmemacher Jürgen=0D=0AKinter=0D=0A=0D=0AGemeinsame Veranstaltung der Geschichtswerkstatt Barmbek und=0D=0AHilldegarden e.V.=0D=0A=0D=0ANach über 60 Jahren besuchen ehemalige Zwangsarbeiter*innen aus der=0D=0AUkraine und Russland erstmals wieder Hamburg, wo sie im 2. Weltkrieg=0D=0AZwangsarbeit leisten mussten. Die Filme dokumentieren ihre Geschichte=0D=0Abegleiten sie an einiger Orte an denen sie als sog. Ostarbeiter=0D=0Aeingesetzt und untergebracht waren.=0D=0A=0D=0AMit dieser Veranstaltung soll die Erinnerung an die lange verdrängte=0D=0AGeschichte der Zwangsarbeit in Hamburg an einigen Beispielen=0D=0Awachgehalten werden.=0D=0A=0D=0AOrt: Bunker Feldstrasse 66, Vereinsräume Hilldegarden, Level 4,=0D=0A=0D=0AZugang über den Bergpfad (am Drehkreuz zum Eingang des Bergpfads=0D=0Awerden Rucksäcke auf Flaschen überprüft) oder über den=0D=0ALastenfahrstuhl (barrierefrei) an der Seite, die zum Heiligengeistfeld=0D=0Aweist (dem Aufsteller folgen)=0D=0A=0D=0AEintritt frei, Anmeldung zur besseren Planung erbeten unter=0D=0Aanmeldung@hilldegarden.org. Spontanbesuche willkommen.=0D=0A=0D=0A(Bei Anmeldung per Mail bitte die Veranstaltung nennen)=0D=0A
URL;VALUE=URI:https://hamburgwhl.infomaxnet.de/standard_widget_de/e-filmische-spurensuche-zu-zwangsarbeit-in-der-ns-zeit-in-hamburg?eventDateId=30098652&widgetToken=22vcqFKw4GE.&
CLASS:PUBLIC
DTSTART:20260423T180000
DTSTAMP:20260423T170551
END:VEVENT
END:VCALENDAR