BEGIN:VCALENDAR
VERSION:2.0
PRODID:http://www.infomax-online.de/imxeventmanager/
METHOD:PUBLISH
BEGIN:VTIMEZONE
TZID:Europe/Berlin
TZURL:http://tzurl.org/zoneinfo-outlook/Europe/Berlin
X-LIC-LOCATION:Europe/Berlin
END:VTIMEZONE
BEGIN:VEVENT
UID:69e9d20348b30
LOCATION:Modering 1a, 22457 Hamburg
SUMMARY;ENCODING=QUOTED-PRINTABLE:Lebensfreude Frühlingsmesse Hamburg 2026
DESCRIPTION;ENCODING=QUOTED-PRINTABLE:Lebensfreude Jubiläumsmesse Hamburg – 40 Jahre Inspiration &=0D=0ABewusstsein=0D=0A=0D=0AManchmal spürt man einfach, dass sich etwas verändern will. Mehr=0D=0AEnergie, mehr Klarheit, mehr du selbst. Genau dafür gibt es die=0D=0ALebensfreude Jubiläumsmesse Hamburg.=0D=0A=0D=0A- 100+ Aussteller aus Naturheilkunde, Spiritualität, Coaching &=0D=0Anachhaltigem Lebensstil=0D=0A=0D=0A- 120+ Vorträge, Workshops und Events=0D=0A=0D=0A- Stargast Dr. Rüdiger Dahlke live mit zwei Vorträgen & Buchpremiere=0D=0A=0D=0A- Sonja Ariel von Staden – Workshop & Live-Channeling=0D=0A=0D=0A- Carolin & Alexander Toskar – Workshop „Das Dritte Auge=0D=0Aaktivieren"=0D=0A=0D=0A- Klangmeditationen, Pranic Healing, Persönlichkeitsentwicklung &=0D=0Amehr=0D=0A=0D=0A- Kinder unter 14 Jahren haben freien Eintritt=0D=0A=0D=0AEin Wochenende, das bewegt. Für alle, die offen sind für neue=0D=0AImpulse und echte Begegnungen.=0D=0A
URL;VALUE=URI:https://hamburgwhl.infomaxnet.de/standard_widget_de/e-lebensfreude-fruehlingsmesse-hamburg-2026?eventDateId=30098638&widgetToken=22vcqFKw4GE.&
CLASS:PUBLIC
DTSTART:20260424T100000
DTSTAMP:20260423T100211
END:VEVENT
END:VCALENDAR