BEGIN:VCALENDAR
VERSION:2.0
PRODID:http://www.infomax-online.de/imxeventmanager/
METHOD:PUBLISH
BEGIN:VTIMEZONE
TZID:Europe/Berlin
TZURL:http://tzurl.org/zoneinfo-outlook/Europe/Berlin
X-LIC-LOCATION:Europe/Berlin
END:VTIMEZONE
BEGIN:VEVENT
UID:69e7e966ee8af
LOCATION:Ansgarstraße 54, 25336 Elmshorn
SUMMARY;ENCODING=QUOTED-PRINTABLE:Punkt 7 - die Postkartenandacht
DESCRIPTION;ENCODING=QUOTED-PRINTABLE:Jede Woche eine andere Postkarte, ein anderer christlicher Impuls.=0D=0AGemeinsam wollen wir innehalten im Alltag und Gott und seinem Wort=0D=0ARaum geben. Mal laut, mal leise. Mal mit viel Musik, mal mit=0D=0Agemeinsamer Aktion.=0D=0A=0D=0AOhne Vorkenntnisse und Vorbereitung einfach vorbeikommen und=0D=0Amitfeiern.=0D=0A=0D=0AVERANSTALTER=0D=0A=0D=0A	* Ev.-Luth. Nikolai-Kirchengemeinde Elmshorn=0D=0A[https://www.nordkirche.de/institution/?nkci=14114]=0D=0A=0D=0A
URL;VALUE=URI:https://hamburgwhl.infomaxnet.de/standard_widget_de/e-punkt-7-die-postkartenandacht-der-woche-2?eventDateId=30093495&widgetToken=22vcqFKw4GE.&
CLASS:PUBLIC
DTSTART:20260421T190000
DTSTAMP:20260421T231726
END:VEVENT
END:VCALENDAR