BEGIN:VCALENDAR
VERSION:2.0
PRODID:http://www.infomax-online.de/imxeventmanager/
METHOD:PUBLISH
BEGIN:VTIMEZONE
TZID:Europe/Berlin
TZURL:http://tzurl.org/zoneinfo-outlook/Europe/Berlin
X-LIC-LOCATION:Europe/Berlin
END:VTIMEZONE
BEGIN:VEVENT
UID:69e774936c2bb
LOCATION:St. Georgs Kirchhof 19, 20099 Hamburg
SUMMARY;ENCODING=QUOTED-PRINTABLE:Musikalische Lesung mit Roman Knižka
DESCRIPTION;ENCODING=QUOTED-PRINTABLE:Der Titel greift eine eindringliche Zeile aus Kurt Tucholskys Gedicht=0D=0A„Deutschland, erwache!“ (1930) auf – ein scharf formulierter=0D=0AWarnruf vor Radikalisierung, Gewalt und dem Zerfall demokratischer=0D=0ANormen. Texte von Erich Kästner, Mascha Kaléko, Kurt Tucholsky,=0D=0AViktor Klemperer, Sebastian Haffner und Dorothy Thompson treffen=0D=0Aauf Musik von Hanns Eisler, Kurt Weill, Erwin Schulhoff, Paul Juon und=0D=0AJean Françaix – ebenso wie auf Swing und Schlager von Cole Porter=0D=0Aund den Comedian Harmonists. Das Programm erzählt vom politischen und=0D=0Agesellschaftlichen Zerfall, aber auch von der kulturellen Blüte jener=0D=0AJahre und stellt die Frage: Welche Lehren ziehen wir heute aus dem=0D=0AUntergang der ersten deutschen Demokratie?=0D=0A=0D=0AVERANSTALTER=0D=0A=0D=0A	* Ev.-luth. Kirchengemeinde St. Georg-Borgfelde=0D=0A[https://www.nordkirche.de/institution/?nkci=3129]=0D=0A=0D=0A
URL;VALUE=URI:https://hamburgwhl.infomaxnet.de/standard_widget_de/e-musikalische-lesung-mit-roman-knizka?eventDateId=30093486&widgetToken=22vcqFKw4GE.&
CLASS:PUBLIC
DTSTART:20260421T190000
DTSTAMP:20260421T145859
END:VEVENT
END:VCALENDAR