BEGIN:VCALENDAR
VERSION:2.0
PRODID:http://www.infomax-online.de/imxeventmanager/
METHOD:PUBLISH
BEGIN:VTIMEZONE
TZID:Europe/Berlin
TZURL:http://tzurl.org/zoneinfo-outlook/Europe/Berlin
X-LIC-LOCATION:Europe/Berlin
END:VTIMEZONE
BEGIN:VEVENT
UID:69e8b556be48f
LOCATION:Barnerstraße 16, 22765 Hamburg
SUMMARY;ENCODING=QUOTED-PRINTABLE:Disco 53 +/- im Monkeys Music Club, Barnerstraße 16, 22765 Hamburg!
DESCRIPTION;ENCODING=QUOTED-PRINTABLE:Seit 13 Jahren der Renner in der MOTTE in Hamburg Ottensen. Heute im=0D=0AMonkeys Music Club, Bahrnerstraße 16, 22765 Hamburg. Zu lauter Rock=0D=0Aund Disco Mucke tanzen wie früher in den 60/70er. Von Abba bis Zappa,=0D=0AAC/DC bis ZZTOP. Mit Discjockey DJ Pete. Musikwünsche=0D=0Aan https://www.facebook.com/Disco53=0D=0A
URL;VALUE=URI:https://hamburgwhl.infomaxnet.de/standard_widget_de/e-disco-53-im-monkeys-music-club-bahrnerstrasse-16-22765-hamburg?eventDateId=30089490&widgetToken=22vcqFKw4GE.&
CLASS:PUBLIC
DTSTART:20260422T190000
DTSTAMP:20260422T134734
END:VEVENT
END:VCALENDAR