BEGIN:VCALENDAR
VERSION:2.0
PRODID:http://www.infomax-online.de/imxeventmanager/
METHOD:PUBLISH
BEGIN:VTIMEZONE
TZID:Europe/Berlin
TZURL:http://tzurl.org/zoneinfo-outlook/Europe/Berlin
X-LIC-LOCATION:Europe/Berlin
END:VTIMEZONE
BEGIN:VEVENT
UID:69ea22c405984
LOCATION:Südstrand 11, 25761 Büsum
SUMMARY;ENCODING=QUOTED-PRINTABLE:Vortrag: 360 Grad Wattenmeer - Das Watt vor Büsum
DESCRIPTION;ENCODING=QUOTED-PRINTABLE:Ebbe und Flut, Sand und Schlick, Pflanzen und Tiere, Natur und Mensch=0D=0A- Dieser Vortrag nimmt Sie mit auf eine abwechslungsreiche Reise durch=0D=0Adas Weltnaturerbe Wattenmeer vor Büsum.=0D=0A=0D=0ADer Nationalpark Wattenmeer ist ein faszinierender Lebensraum und=0D=0Asogar als Weltnaturerbe ausgezeichnet. Aber was ist eigentlich so=0D=0Abesonders daran? Wie ist das Watt entstanden? Was lebt hier in Sand=0D=0Aund Schlick? Wie überstehen Pflanzen und Tiere salzige Fluten? Warum=0D=0Akommen Millionen Zugvögel zweimal jährlich gerade hierher? Bekommen=0D=0Aim Watt manche Säugetiere tatsächlich mitten im Winter ihre Jungen?=0D=0AWelche Gefahren drohen der Küstennatur? Was sind die Aufgaben unserer=0D=0AFreiwilligen im Naturschutz? Wie kann man selber zum Erhalt des=0D=0AWattenmeers beitragen? Wenn Sie mehr hierüber erfahren wollen, dann=0D=0Asind Sie in dieser abwechslungsreichen Präsentation genau richtig.=0D=0A
URL;VALUE=URI:https://hamburgwhl.infomaxnet.de/standard_widget_de/e-vortrag-360-grad-wattenmeer-das-watt-vor-buesum-4?eventDateId=30088961&widgetToken=22vcqFKw4GE.&
CLASS:PUBLIC
DTSTART:20260417T140000
DTSTAMP:20260423T154644
END:VEVENT
END:VCALENDAR