BEGIN:VCALENDAR
VERSION:2.0
PRODID:http://www.infomax-online.de/imxeventmanager/
METHOD:PUBLISH
BEGIN:VTIMEZONE
TZID:Europe/Berlin
TZURL:http://tzurl.org/zoneinfo-outlook/Europe/Berlin
X-LIC-LOCATION:Europe/Berlin
END:VTIMEZONE
BEGIN:VEVENT
UID:69ea59af38390
LOCATION:Willy-Brandt-Allee 10, 23554 Lübeck
SUMMARY;ENCODING=QUOTED-PRINTABLE:Sven Plöger - Zieht euch warm an, es wird noch heißer!
DESCRIPTION;ENCODING=QUOTED-PRINTABLE:Im Rahmen der GO.GRØØN-Messe spricht Meteorologe Sven Plöger in der=0D=0AMuK über den Klimawandel und unsere Handlungsmöglichkeiten. =0D=0A=0D=0AIm Rahmen der GO.GRØØN-Messe lädt die Musik- und Kongresshalle=0D=0ALübeck zu einem Vortrag des bekannten Meteorologen, Buchautors und=0D=0AARD-Wettermoderators Sven Plöger ein. Unter dem Titel "Zieht euch=0D=0Awarm an, es wird noch heißer!" ordnet Plöger ein, wo wir beim Thema=0D=0AKlimawandel heute tatsächlich stehen und warum die aktuellen=0D=0AEntwicklungen eine klare physikalische Realität sind.=0D=0A=0D=0AAusgehend von den zunehmenden Extremwetterereignissen - von Hitze und=0D=0ADürre bis zu Starkregen und Überflutungen - zeigt der Vortrag=0D=0Averständlich und fundiert, welche Veränderungen bereits sichtbar=0D=0Asind und welche Herausforderungen vor uns liegen. Gleichzeitig richtet=0D=0ASven Plöger den Blick nach vorn: Statt Resignation braucht es einen=0D=0Abegründeten Optimismus und den Mut zu handeln. Im zweiten Teil seines=0D=0AVortrags geht es daher um Möglichkeiten, wie wir mit der=0D=0AHerausforderung des Klimawandels umgehen können.=0D=0A=0D=0ASven Plöger ist seit über 25 Jahren als Meteorologe und=0D=0AWettermoderator in der ARD bekannt und versteht es, komplexe=0D=0Anaturwissenschaftliche Zusammenhänge anschaulich und mit einer Prise=0D=0AHumor zu vermitteln.=0D=0A=0D=0ADie Klimaleitstelle der Hansestadt Lübeck beteiligt sich am=0D=0ARahmenprogramm der GO.GRØØN-Messe unter anderem mit einem=0D=0Aumfangreichen Informationsangebot. Besucher:innen können sich an=0D=0Aunseren Ständen über die Energiewende, Hochwasserschutz, Gündächer=0D=0Aund vieles mehr informieren.=0D=0A=0D=0ADie Veranstaltung ist kostenlos, aber um Anmeldung wird gebeten:=0D=0AMuK - kostenloses Ticket=0D=0A[https://muk.online-ticket.de/sven-ploeger-tickets-226.html?promotion=anmeldung]=0D=0A
URL;VALUE=URI:https://hamburgwhl.infomaxnet.de/standard_widget_de/e-sven-ploeger-zieht-euch-warm-an-es-wird-noch-heisser?eventDateId=30088217&widgetToken=22vcqFKw4GE.&
CLASS:PUBLIC
DTSTART:20260425T150000
DTSTAMP:20260423T194103
END:VEVENT
END:VCALENDAR