BEGIN:VCALENDAR
VERSION:2.0
PRODID:http://www.infomax-online.de/imxeventmanager/
METHOD:PUBLISH
BEGIN:VTIMEZONE
TZID:Europe/Berlin
TZURL:http://tzurl.org/zoneinfo-outlook/Europe/Berlin
X-LIC-LOCATION:Europe/Berlin
END:VTIMEZONE
BEGIN:VEVENT
UID:69ea18ab6d52d
LOCATION:Willy-Brandt-Allee 10, 23554 Lübeck
SUMMARY;ENCODING=QUOTED-PRINTABLE:Energiewende von Nebenan
DESCRIPTION;ENCODING=QUOTED-PRINTABLE:Auftakt zur GO.GRØØN-Messe 2026: ARD-Journalist Markus Gürne ordnet=0D=0Adie Energiewende global ein, Lübecker "Leuchttürme" zeigen konkrete=0D=0AProjekte vor Ort. Eine Ausstellung stellt die sieben Vorreiter der=0D=0AEnergiewende von nebenan künstlerisch vor.=0D=0A=0D=0AMit der Veranstaltung "Energiewende von nebenan - sieben Leuchttürme=0D=0Aaus Lübeck" startet die GO.GRØØN - Messe für Nachhaltiges und=0D=0AFaires 2026. Die Klimaleitstelle der Hansestadt Lübeck und die Musik-=0D=0Aund Kongresshalle Lübeck laden am Freitag, 24. April 2026, um 17 Uhr=0D=0Azur offiziellen Auftaktveranstaltung in den Konzertsaal der MUK ein.=0D=0AZur Begrüßung sprechen Joschka Knuth, Staatssekretär im Ministerium=0D=0Afür Energiewende, Klimaschutz, Umwelt und Natur des Landes=0D=0ASchleswig-Holstein, sowie Lübecks Bürgermeister Jan Lindenau.=0D=0A=0D=0ADen Impuls des Abends setzt der ARD-Journalist Markus Gürne. In=0D=0Aseinem Vortrag zur Energiewende "Made in Germany" ordnet er die=0D=0Aaktuellen wirtschaftlichen und energiepolitischen Entwicklungen ein=0D=0Aund spannt den Bogen von globalen Herausforderungen hin zu regionalen=0D=0ALösungen. Dabei zeigt er, welche Rolle innovative Regionen,=0D=0AUnternehmen und lokale Initiativen beim Umbau zu einer=0D=0Aklimafreundlichen Wirtschaft spielen.=0D=0A=0D=0AAnschließend richtet sich der Blick nach Lübeck: Die Klimaleitstelle=0D=0Astellt gemeinsam mit engagierten Akteur:innen sieben "Leuchttürme"=0D=0Ader lokalen Energiewende vor. Die Menschen hinter diesen Projekten=0D=0Azeigen an konkreten Beispielen, wie Klimaschutz vor Ort bereits=0D=0Aumgesetzt wird - pragmatisch, wirtschaftlich sinnvoll und mit Wirkung=0D=0Afür Stadt und Region. Die Beispiele machen sichtbar, dass die=0D=0AEnergiewende nicht nur ein politisches Ziel ist, sondern vielerorts=0D=0Abereits Realität wird.=0D=0A=0D=0ADen Abschluss bildet die Ausstellung "Sieben Leuchttürme", die die=0D=0Avorgestellten Projekte künstlerisch interpretiert und ihre Ideen und=0D=0AGeschichten visuell erlebbar macht. Die Veranstaltung verbindet damit=0D=0AImpuls, Praxisbeispiele und Ausstellung - und eröffnet zugleich die=0D=0AGO.GRØØN-Messe, die an den folgenden Tagen nachhaltige Lösungen,=0D=0AInitiativen und Unternehmen aus der Region präsentiert.=0D=0A=0D=0ADie Veranstaltung ist kostenlos, aber um Anmeldung wird gebeten:=0D=0AMuK - kostenloses Ticket=0D=0A[https://muk.online-ticket.de/energiewende-von-nebenan-markus-guerne-tickets-227.html?promotion=anmeldung]=0D=0A=0D=0ADie Seite zur Kampagne ist:=0D=0Awww.luebeck.de7leuchttuerme=0D=0A[https://www.luebeck.de/de/stadtentwicklung/klima/7-leuchttuerme.html]=0D=0ADort werden zukünftig alle Projekte vorgestellt.=0D=0A
URL;VALUE=URI:https://hamburgwhl.infomaxnet.de/standard_widget_de/e-energiewende-von-nebenan?eventDateId=30088193&widgetToken=22vcqFKw4GE.&
CLASS:PUBLIC
DTSTART:20260424T170000
DTSTAMP:20260423T150339
END:VEVENT
END:VCALENDAR