BEGIN:VCALENDAR
VERSION:2.0
PRODID:http://www.infomax-online.de/imxeventmanager/
METHOD:PUBLISH
BEGIN:VTIMEZONE
TZID:Europe/Berlin
TZURL:http://tzurl.org/zoneinfo-outlook/Europe/Berlin
X-LIC-LOCATION:Europe/Berlin
END:VTIMEZONE
BEGIN:VEVENT
UID:69ed90320b690
LOCATION:Gertigstraße 46, 22303 Hamburg
SUMMARY;ENCODING=QUOTED-PRINTABLE:FOTOKURS - DROHNEN – DIE WELT VON OBEN //
DESCRIPTION;ENCODING=QUOTED-PRINTABLE:FOTOGRAFIEREN IM FLUG // EINFÜHRUNGSPREIS 320 EURO // >>=0D=0AEINZELCOACHING [https://www.fotokurs.de/09-einzel-coaching/] IST=0D=0AJEDERZEIT MÖGLICH=0D=0A=0D=0ASie wollen hoch hinaus und dabei tolle Szenen filmen oder=0D=0Aspektakuläre Fotos schiessen? Wir zeigen Ihnen was Sie dabei beachten=0D=0Amüssen und wie Sie die maximale Qualität aus Ihrer Drohnen-Kamera=0D=0Aherauskitzeln. Von den Grundeinstellungen im Menü bis hin zur=0D=0ABildgestaltung und den Umgang mit verschiedenen Lichtrichtungen.=0D=0A=0D=0ADazu gibt’s jede Menge Tricks aus der Profikiste und bei den=0D=0Apraktischen Übungen freuen wir uns mit Ihnen darüber wie einfach=0D=0Adiese anzuwenden sind. Wenn Sie bereits eine Drohne besitzen oder die=0D=0AAnschaffung planen, dann ist das Ihr Kurs!=0D=0A=0D=0ABitte beachten Sie: In diesem Kurs beschäftigen wir uns primär mit=0D=0Afotografischen Lösungen; das Fliegen Ihrer Drohne vermitteln wir=0D=0Aausführlicher im gesonderten >> EINZELCOACHING=0D=0A[https://www.fotokurs.de/09-einzel-coaching/].=0D=0A=0D=0ADarum geht’s im Detail:=0D=0A=0D=0ATEIL 1 // RECHTLICHE GRUNDLAGEN=0D=0A=0D=0ARechtliche Grundlagen in Kurzfassung=0D=0AErforderliche Kenntnisnachweise=0D=0AMeteorologie=0D=0AFlugleistung=0D=0AAkkus=0D=0AMinderung von Risiken=0D=0AAlle Fragen, die Ihnen unter den Nägeln brennen=0D=0A=0D=0ATEIL 2 // EINSTELLUNGEN IM KAMERAMENÜ=0D=0A=0D=0AGrundsätzliches zur Drohnen-Fotografie und zur Funktion der=0D=0Aeingebauten Kamera=0D=0AKameraprogramme und ihre Bedeutungen: Programmautomatik,=0D=0ABlendenautomatik, Zeitautomatik, manueller Modus=0D=0AManuelle Belichtungskorrektur=0D=0ABildgröße, Dateiformat (z.B. raw und jpg), Farbraum=0D=0AEmpfindlichkeit (ISO), Weißabgleich=0D=0AFocussteuerungen: Afs, Afc, Afm=0D=0ADie richtige Belichtung bei Nacht=0D=0AVideoformate, Gangzahlen, Zeitlupe, Zeitraffer, Panoramen=0D=0ASpeicherkarte, Kapazität, formatieren=0D=0ADie Gesetze von Standpunkt und Perspektive=0D=0APraktische Übungen: das Gelernte unter Anleitung sofort umsetzen=0D=0AAlle Fragen, die Ihnen unter den Nägeln brennen=0D=0A=0D=0ATEIL 3 // TAKE OFF! FLIEGEN – FILMEN – FREUEN=0D=0A=0D=0AStartvorbereitung, Risikobewertung, Wetter=0D=0ARückkehrfunktionen, Home Button=0D=0AFlugmodi, z.B. P, S oder T=0D=0AIntelligente Flugmodi, z.B. Hyperlapse=0D=0AQuickshots, z.B. Dronie, Helix, Rocket=0D=0AActive Track, z.B. Profil, verfolgen=0D=0APoint of interest=0D=0AMotivsuche, Flughöhe, Lichtrichtungen, Ausschnitte=0D=0ARichtiges filmen und fotografieren=0D=0AVom Weitwinkel- zum Teleobjektiv=0D=0APraktische Übungen: das Gelernte unter Anleitung sofort umsetzen=0D=0AAlle Fragen, die Ihnen unter den Nägeln brennen=0D=0A=0D=0AGut zu wissen:=0D=0A=0D=0AWir bieten diesen Kurs an Sonntagen an=0D=0AEinzelcoaching [https://www.fotokurs.de/09-einzel-coaching/] ist=0D=0Ajederzeit möglich – auch während der Woche=0D=0ABitte sprechen Sie uns an=0D=0A=0D=0AAlle Einstellungen und Flugmanöver werden Beispielhaft mit einer=0D=0A„DJI Mavic Pro“ Drohne durchgeführt=0D=0A=0D=0AKurs am Sonntag 09:45 – 16:00 Uhr=0D=0AWelcome 09:45=0D=0ATeil 1: 10:00 – 11:00=0D=0ATeil 2: 11:00 – 14:00=0D=0ATeil 3: 14:00 – 16:00=0D=0ADazwischen Mittagspause: 12:00 -13:00=0D=0AInklusive leckerem Catering, Cappuccino & Co=0D=0A=0D=0ATeilnehmerzahl: min 4 / max 6=0D=0APreis pro Person: 320,-=0D=0A=0D=0ADer Kurs wird in der LOFTACADEMY // von Michael Werner durchgeführt=0D=0A(Inhaber Fernpiloten-Zeugnis / Luftfahrt Bundesamt)=0D=0A=0D=0A =0D=0A=0D=0ABitte mitbringen:=0D=0A=0D=0ADie eigene Drohne mit geladenen Akkus (falls vorhanden)=0D=0ASpaß am Tüfteln, Geduld und gute Laune=0D=0A
URL;VALUE=URI:https://hamburgwhl.infomaxnet.de/standard_widget_de/e-drohnen-die-welt-von-oben?eventDateId=30087987&widgetToken=22vcqFKw4GE.&
CLASS:PUBLIC
DTSTART:20260426T094500
DTSTAMP:20260426T061026
END:VEVENT
END:VCALENDAR