BEGIN:VCALENDAR
VERSION:2.0
PRODID:http://www.infomax-online.de/imxeventmanager/
METHOD:PUBLISH
BEGIN:VTIMEZONE
TZID:Europe/Berlin
TZURL:http://tzurl.org/zoneinfo-outlook/Europe/Berlin
X-LIC-LOCATION:Europe/Berlin
END:VTIMEZONE
BEGIN:VEVENT
UID:69e99ebfe288f
LOCATION:Gertigstraße 46, 22303 Hamburg
SUMMARY;ENCODING=QUOTED-PRINTABLE:FOTOKURS // 04 City Lights: Nachtaufnahmen in der Stadt
DESCRIPTION;ENCODING=QUOTED-PRINTABLE: =0D=0A=0D=0ANachts sind alle Katzen grau? Von wegen, Hamburg leuchtet und wir=0D=0Afangen es mit unseren Kameras ein! Bei unserem Foto-Trip durch=0D=0AHafencity und Speicherstadt zeigen wir Ihnen, wie Sie mit ein paar=0D=0Aeinfachen Tricks überraschend gute Nachtaufnahmen schießen.=0D=0A=0D=0ASchritt für Schritt lernen Sie die verschiedensten Möglichkeiten der=0D=0ABildgestaltung kennen. Sie experimentieren mit Perspektiven und=0D=0ABrennweiten, üben den Einsatz von Schärfe, Unschärfe und=0D=0ABewegungsunschärfe und entdecken, wie man mit Taschenlampen,=0D=0AWunderkerzen oder zufällig vorbei fahrenden Autos tolle Effekte=0D=0Aerzielt.=0D=0A=0D=0ADARUM GEHT’S IM DETAIL=0D=0A=0D=0A	* Die richtige Belichtung bei Nacht=0D=0A	* Das Spiel mit mitgebrachten Lichtquellen=0D=0A	* Bildgestaltung: welche Perspektiven eignen sich am besten für mein=0D=0AMotiv=0D=0A	* Wahl der Brennweite=0D=0A	* Einsatz von selektiver Schärfe, Unschärfe und Bewegungsunschärfe=0D=0A	* Wie vermeide ich stürzende Linien oder wie setze ich sie bewusst=0D=0Aein=0D=0A	* Was ist der Goldene Schnitt und wie kann er bei der Bildgestaltung=0D=0Ahelfen=0D=0A	* Einsatz von Stativ und Spiegelvorauslösung=0D=0A	* Juristische Grundlagen der Architekturfotografie (kein Witz)=0D=0A	* Auswertung der Bildergebnisse und Feedback=0D=0A	* Hinweise zur Bildbearbeitung und richtigen Datensicherung=0D=0A	* Alle Fragen, die Ihnen unter den Nägeln brennen=0D=0A=0D=0AGUT ZU WISSEN=0D=0A=0D=0AKursdauer 1. Abend: 18:00 – 21:30 (Schwankt Jahreszeitenabhängig) =0D=0A2. Abend: 18:00 - 20:00=0D=0A=0D=0A1. Abend=0D=0A18:00 (Schwankt Jahreszeitenabhängig): Treffpunkt vor dem=0D=0A„DOCKLANDS“ / Van-der-Smissen-Straße 9 / 20354 Hamburg=0D=0A=0D=0ANach Einweisung und kleiner Theorie beginnt die fotografische=0D=0AEntdeckungsreise=0D=0A=0D=0A2. Abend=0D=0A18:00: Treffpunkt LOFTACADEMY / Gertigstr. 46 / 22303 Hamburg=0D=0ADort Bildbesprechung bis 20:00=0D=0A=0D=0ADer Kurs wird von Michael Werner durchgeführt=0D=0A=0D=0ATeilnehmerzahl: mind 4 / max 8=0D=0A=0D=0ABITTE MITBRINGEN=0D=0A=0D=0A	* Grundkenntnisse im Umgang mit der eigenen Kamera=0D=0A	* Eine Kamera, bei der sich Blende und Zeit manuell verstellen lassen=0D=0Aund deren Bedienungsanleitung=0D=0A	* Akkus – vorher laden=0D=0A	* Geladene Zusatzakkus (wenn vorhanden)=0D=0A	* Weitwinkel/Teleobjektiv und Stativ=0D=0A	* Taschenlampe am Fotoabend und Notebook (wenn vorhanden) am=0D=0ABesprechungsabend=0D=0A	* Spaß am Entdecken, Gestalten und Fotografieren=0D=0A=0D=0A =0D=0A
URL;VALUE=URI:https://hamburgwhl.infomaxnet.de/standard_widget_de/e-nachtaufnahmen-in-der-stadt-04-city-lights?eventDateId=30087815&widgetToken=22vcqFKw4GE.&
CLASS:PUBLIC
DTSTART:20260424T180000
DTSTAMP:20260423T062327
END:VEVENT
END:VCALENDAR