BEGIN:VCALENDAR
VERSION:2.0
PRODID:http://www.infomax-online.de/imxeventmanager/
METHOD:PUBLISH
BEGIN:VTIMEZONE
TZID:Europe/Berlin
TZURL:http://tzurl.org/zoneinfo-outlook/Europe/Berlin
X-LIC-LOCATION:Europe/Berlin
END:VTIMEZONE
BEGIN:VEVENT
UID:69e5d344a41c4
LOCATION:Kleiner Kielort 3-5, 20144 Hamburg
SUMMARY;ENCODING=QUOTED-PRINTABLE:TONALi KonzertLab Festival
DESCRIPTION;ENCODING=QUOTED-PRINTABLE:PROGRAMM=0D=0A=0D=0AEgal, ob du Berührungspunkte mit klassischer Musik hast oder nicht:=0D=0AUnsere KonzertLABs liefern spannende Konzertdesigns, neue Perspektiven=0D=0Aauf klassische Musik und Raum für Austausch und Experimente.=0D=0A=0D=0AJunge Musiker:innen der TONALi Bühnenakademie=0D=0A[https://www.tonali.de/akademie/buehnenakademie/] haben in=0D=0Amehrtägigen Residenzen neue Konzertformate erprobt und gestest. In=0D=0Aeiner zweiten Runde bringen sie diese noch einmal überarbeitet zur=0D=0AAufführung.=0D=0A=0D=0AAlle 4 KonzertLabs im Festival=0D=0A=0D=0A21.04. – 19.30 Uhr=0D=0Adream extreme – Eine Nachtwanderung durchs Schlaflabor=0D=0AAlle Infos [https://www.tonali.de/termine/labfestival26-1/]=0D=0A=0D=0A22.04. – 19.30 Uhr=0D=0Aimmer aber anders=0D=0AAlle Infos [https://www.tonali.de/termine/labfestival26-2/]=0D=0A=0D=0A23.04. – 19.30 Uhr=0D=0Agoldilocks – a cosmic questionmark=0D=0AAlle Infos [https://www.tonali.de/termine/labfestival26-3/]=0D=0A=0D=0A24.04. – 19.30 Uhr=0D=0AWer hören will, muss fühlen=0D=0AAlle Infos [https://www.tonali.de/termine/labfestival26-4/]=0D=0A=0D=0ABETEILIGTE=0D=0A=0D=0ADie Konzerte der Reihe werden von den Musiker:innen des JAHRGANG 14=0D=0ADER TONALI BÜHNENAKADEMIE=0D=0A[https://www.tonali.de/akademie/buehnenakademie/] im AUSTAUSCH MIT=0D=0AJUGENDLICHEN der TONALi CREW=0D=0A[https://www.tonali.de/akademie/weiterbildung/crew/], Anwohnenden aus=0D=0Adem Kunstschutzgebiet=0D=0A[https://www.tonali.de/termine/kunstschutzgebiet/] und weiteren=0D=0ABeteiligten erarbeitet.=0D=0A
URL;VALUE=URI:https://hamburgwhl.infomaxnet.de/standard_widget_de/e-goldilocks-tonali-konzertlab-festival-0?eventDateId=30087040&widgetToken=22vcqFKw4GE.&
CLASS:PUBLIC
DTSTART:20260421T193000
DTSTAMP:20260420T091828
END:VEVENT
END:VCALENDAR