BEGIN:VCALENDAR
VERSION:2.0
PRODID:http://www.infomax-online.de/imxeventmanager/
METHOD:PUBLISH
BEGIN:VTIMEZONE
TZID:Europe/Berlin
TZURL:http://tzurl.org/zoneinfo-outlook/Europe/Berlin
X-LIC-LOCATION:Europe/Berlin
END:VTIMEZONE
BEGIN:VEVENT
UID:69eaf9d32d51b
LOCATION:Harvestehuder Weg 12, 20148 Hamburg
SUMMARY;ENCODING=QUOTED-PRINTABLE:Grande F(em)inale
DESCRIPTION;ENCODING=QUOTED-PRINTABLE:Streichquartette, Sonaten und Klaviertrios – im Abschlusskonzert des=0D=0AFeminale-Musikfestivals spielen das inn.wien ensemble, Studierende und=0D=0ALehrende der HfMT für uns ganz große Kammermusik.=0D=0A=0D=0AÜber die Feminale:=0D=0A=0D=0ABei der Feminale werden Komponistinnen gefeiert und ihre Musik bekommt=0D=0Aendlich die Bühne, die sie verdient! Denn Komponistinnen gibt es und=0D=0Ahat es schon immer gegeben – sie wurden nur aus der Musikgeschichte=0D=0Agestrichen. Im April widmen wir ihnen deshalb in der Hochschule für=0D=0AMusik und Theater ein Festival, in dem es nur um sie geht. Kommt=0D=0Avorbei und entdeckt eure neuen Lieblingsstücke!=0D=0A=0D=0AMehr Infos und Programm unter: http://hfmt.art/feminale=0D=0A=0D=0ADas Konzert ist kostenfrei, eine Anmeldung unter eventbrite aber=0D=0Anötig.=0D=0A
URL;VALUE=URI:https://hamburgwhl.infomaxnet.de/standard_widget_de/e-grande-feminale?eventDateId=30087034&widgetToken=22vcqFKw4GE.&
CLASS:PUBLIC
DTSTART:20260425T183000
DTSTAMP:20260424T070419
END:VEVENT
END:VCALENDAR