BEGIN:VCALENDAR
VERSION:2.0
PRODID:http://www.infomax-online.de/imxeventmanager/
METHOD:PUBLISH
BEGIN:VTIMEZONE
TZID:Europe/Berlin
TZURL:http://tzurl.org/zoneinfo-outlook/Europe/Berlin
X-LIC-LOCATION:Europe/Berlin
END:VTIMEZONE
BEGIN:VEVENT
UID:69ead1c2dd787
LOCATION:Harvestehuder Weg 12, 20148 Hamburg
SUMMARY;ENCODING=QUOTED-PRINTABLE:Musiziert, analysiert, diskutiert! Werke von Chaminade und Viardot=0D=0Aunter der Lupe
DESCRIPTION;ENCODING=QUOTED-PRINTABLE:Studierende der Klasse für vokale Kammermusik von Mariana Popova=0D=0Apräsentieren Werke von Cécile Chaminade und Pauline Viardot. Dazu=0D=0Ageben Studierende der Schulmusik musikanalytische Einblicke: Wie sind=0D=0Adie Stücke komponiert? Unter welchen Umständen sind sie entstanden=0D=0Aund wo wurden sie aufgeführt? Und wie beeinflussen diese Erkenntnisse=0D=0Adie musikalische Interpretation der Aufführenden?=0D=0A=0D=0AÜber die Feminale:=0D=0A=0D=0ABei der Feminale werden Komponistinnen gefeiert und ihre Musik bekommt=0D=0Aendlich die Bühne, die sie verdient! Denn Komponistinnen gibt es und=0D=0Ahat es schon immer gegeben – sie wurden nur aus der Musikgeschichte=0D=0Agestrichen. Im April widmen wir ihnen deshalb in der Hochschule für=0D=0AMusik und Theater ein Festival, in dem es nur um sie geht. Kommt=0D=0Avorbei und entdeckt eure neuen Lieblingsstücke!=0D=0A=0D=0AMehr Infos und Programm unter: http://hfmt.art/feminale=0D=0A=0D=0ADas Konzert ist kostenfrei, eine Anmeldung unter eventbrite aber=0D=0Anötig.=0D=0A
URL;VALUE=URI:https://hamburgwhl.infomaxnet.de/standard_widget_de/e-musiziert-analysiert-diskutiert-werke-von-chaminade-und-viardot-unter-der-lupe?eventDateId=30087007&widgetToken=22vcqFKw4GE.&
CLASS:PUBLIC
DTSTART:20260424T153000
DTSTAMP:20260424T041322
END:VEVENT
END:VCALENDAR