BEGIN:VCALENDAR
VERSION:2.0
PRODID:http://www.infomax-online.de/imxeventmanager/
METHOD:PUBLISH
BEGIN:VTIMEZONE
TZID:Europe/Berlin
TZURL:http://tzurl.org/zoneinfo-outlook/Europe/Berlin
X-LIC-LOCATION:Europe/Berlin
END:VTIMEZONE
BEGIN:VEVENT
UID:69e76f891c771
LOCATION:Kleiner Kielort 3-5, 20144 Hamburg
SUMMARY;ENCODING=QUOTED-PRINTABLE:dream extreme – Eine Nachtwanderung durchs Schlaflabor im TONALi=0D=0AKonzertLab Festival
DESCRIPTION;ENCODING=QUOTED-PRINTABLE:PROGRAMM=0D=0A=0D=0AKannst du nachts (noch) schlafen oder fliegst du schon? =0D=0A=0D=0AGemeinsam spüren wir unseren Schlafphasen nach und verlieren uns in=0D=0Aunendlichen Phantasiewelten. Es geht um den absurden Zustand des=0D=0ATräumens, wenn unser inneres Universum eine Geschichte dichtet und=0D=0Afür einen kurzen Moment real werden lässt. Die musikalische Stimmung=0D=0Aentwickelt mit Flöte, Gesang und Elektronik einen Bogen vom Beginn=0D=0Ader Nacht über Albträume hin zu luziden Träumen und dem Aufwachen=0D=0Aam Morgen.  Das Besondere dabei: Ihr, als Publikum, werdet zur=0D=0AGeschichtenerzählerin und beeinflusst den Verlauf der Geschichte=0D=0Aunseres gemeinsamen Traums. =0D=0A=0D=0AIn meinen Träumen ist alles möglich, in meinen Träumen kann ich=0D=0Afliegen und kann im Dunkeln sehen. Hast du Lust? =0D=0A=0D=0AEgal, ob du Berührungspunkte mit klassischer Musik hast oder nicht:=0D=0AUnsere KonzertLABs liefern spannende Konzertdesigns, neue Perspektiven=0D=0Aauf klassische Musik und Raum für Austausch und Experimente.=0D=0A=0D=0AUnsere Musiker:innen haben in einer Residenzphase im SAAL Konzepte=0D=0Aentwickelt und getestet und bringen diese nun zur Wiederaufnahme in=0D=0Aunser Festival vom 21. – 24. April mit.=0D=0A=0D=0ADie Konzerte der Reihe werden von den Musiker:innen der TONALi=0D=0ABühnenakademie [https://www.tonali.de/akademie/buehnenakademie/] im=0D=0AAustausch mit Jugendlichen der TONALi CREW=0D=0A[https://www.tonali.de/akademie/weiterbildung/crew/], Anwohnenden aus=0D=0Adem Kunstschutzgebiet=0D=0A[https://www.tonali.de/termine/kunstschutzgebiet/] und weiteren=0D=0ABeteiligten erarbeitet.=0D=0A=0D=0ABETEILIGTE=0D=0A=0D=0AJAHRGANG 14 DER TONALI BÜHNENAKADEMIE=0D=0A[https://www.tonali.de/akademie/buehnenakademie/]=0D=0A=0D=0AMarlene Unterfenger – mehr...=0D=0A[https://www.tonali.de/profile/marlene-unterfenger/]=0D=0ALissa Meybohm – mehr...=0D=0A[https://www.tonali.de/profile/lissa-meybohm/]=0D=0ATabea Wink – mehr... [https://www.tonali.de/profile/tabea-wink/]=0D=0A
URL;VALUE=URI:https://hamburgwhl.infomaxnet.de/standard_widget_de/e-tonali-konzertlab-festival-1?eventDateId=30086995&widgetToken=22vcqFKw4GE.&
CLASS:PUBLIC
DTSTART:20260421T193000
DTSTAMP:20260421T143729
END:VEVENT
END:VCALENDAR