BEGIN:VCALENDAR
VERSION:2.0
PRODID:http://www.infomax-online.de/imxeventmanager/
METHOD:PUBLISH
BEGIN:VTIMEZONE
TZID:Europe/Berlin
TZURL:http://tzurl.org/zoneinfo-outlook/Europe/Berlin
X-LIC-LOCATION:Europe/Berlin
END:VTIMEZONE
BEGIN:VEVENT
UID:69eafb4d452f3
LOCATION:Harvestehuder Weg 12, 20148 Hamburg
SUMMARY;ENCODING=QUOTED-PRINTABLE:Female Classics – Hofdamen, Virtuosinnen, Komponistinnen!
DESCRIPTION;ENCODING=QUOTED-PRINTABLE:Arien, Sonaten und Songs aus dem 18. Jahrhundert, komponiert von=0D=0AHofdamen und Prinzessinnen, Pianistinnen und Virtuosinnen – von=0D=0AKomponistinnen! Und als besonderes Highlight der diesjährigen=0D=0AFeminale: die Uraufführung des neuen Stücks von Lucie Spedicato,=0D=0Aunserer Komponistin in Residence 2026!=0D=0A=0D=0AÜber die Feminale:=0D=0A=0D=0ABei der Feminale werden Komponistinnen gefeiert und ihre Musik bekommt=0D=0Aendlich die Bühne, die sie verdient! Denn Komponistinnen gibt es und=0D=0Ahat es schon immer gegeben – sie wurden nur aus der Musikgeschichte=0D=0Agestrichen. Im April widmen wir ihnen deshalb in der Hochschule für=0D=0AMusik und Theater ein Festival, in dem es nur um sie geht. Kommt=0D=0Avorbei und entdeckt eure neuen Lieblingsstücke!=0D=0A=0D=0AMehr Infos und Programm unter: http://hfmt.art/feminale=0D=0A=0D=0ADas Konzert ist kostenfrei, eine Anmeldung unter eventbrite aber=0D=0Anötig.=0D=0A
URL;VALUE=URI:https://hamburgwhl.infomaxnet.de/standard_widget_de/e-female-classics-hofdamen-virtuosinnen-komponistinnen?eventDateId=30086991&widgetToken=22vcqFKw4GE.&
CLASS:PUBLIC
DTSTART:20260424T190000
DTSTAMP:20260424T071037
END:VEVENT
END:VCALENDAR