BEGIN:VCALENDAR
VERSION:2.0
PRODID:http://www.infomax-online.de/imxeventmanager/
METHOD:PUBLISH
BEGIN:VTIMEZONE
TZID:Europe/Berlin
TZURL:http://tzurl.org/zoneinfo-outlook/Europe/Berlin
X-LIC-LOCATION:Europe/Berlin
END:VTIMEZONE
BEGIN:VEVENT
UID:69e8e935c685a
LOCATION:Kehrwieder 12, 20457 Hamburg
SUMMARY;ENCODING=QUOTED-PRINTABLE:Autoritäre Zeiten: Das erzwungene Vergessen
DESCRIPTION;ENCODING=QUOTED-PRINTABLE:Welche Bedeutung hat Erinnerung für die Zukunft einer Gesellschaft?=0D=0AUnd wie prägt das kulturelle Gedächtnis einer Nation das Handeln in=0D=0Ader Gegenwart? Die Publizistin Shila Behjat spricht mit Irina=0D=0AScherbakowa, Historikerin und Mitbegründerin der=0D=0AMenschenrechtsorganisation Memorial, über Erinnerungspolitik in=0D=0ARussland und deren Folgen.=0D=0A=0D=0AAlle Veranstaltungen der Körber-Stiftung sind kostenlos, eine=0D=0AAnmeldung ist jedoch erforderlich.=0D=0A
URL;VALUE=URI:https://hamburgwhl.infomaxnet.de/standard_widget_de/e-autoritaere-zeiten-das-erzwungene-vergessen?eventDateId=30086920&widgetToken=22vcqFKw4GE.&
CLASS:PUBLIC
DTSTART:20260422T190000
DTSTAMP:20260422T172853
END:VEVENT
END:VCALENDAR