BEGIN:VCALENDAR
VERSION:2.0
PRODID:http://www.infomax-online.de/imxeventmanager/
METHOD:PUBLISH
BEGIN:VTIMEZONE
TZID:Europe/Berlin
TZURL:http://tzurl.org/zoneinfo-outlook/Europe/Berlin
X-LIC-LOCATION:Europe/Berlin
END:VTIMEZONE
BEGIN:VEVENT
UID:69e99ecc4e5f6
LOCATION:Im Dorf 2, 21335 Lüneburg
SUMMARY;ENCODING=QUOTED-PRINTABLE:Stadttteilfrühstück
DESCRIPTION;ENCODING=QUOTED-PRINTABLE:Wir wollen wieder in gemütlicher Runde zusammen frühstücken. Wie=0D=0Aimmer gilt: Brötchen, Kaffee und Tee werden gestellt und jede_r=0D=0Abringt eine Kleinigkeit mit (beispielsweise Obst, Marmelade, den=0D=0ALieblingskäse). Ich würde mich freuen wenn jemand Lust hat mich in=0D=0Ader Vor- und oder - Nachbereitung zu unterstützen.=0D=0ABitte bei der Anmeldung angeben.=0D=0A=0D=0ABitte unbedingt anmelden, damit ich die Brötchenmengen kalkulieren=0D=0Akann.=0D=0A=0D=0AInfo und Anmeldung (bis zum 21.04):=0D=0AJasmin.strecker@stadt.lueneburg.de=0D=0A04131 309 4642=0D=0A=0D=0A
URL;VALUE=URI:https://hamburgwhl.infomaxnet.de/standard_widget_de/e-stadttteilfruehstueck?eventDateId=30086740&widgetToken=22vcqFKw4GE.&
CLASS:PUBLIC
DTSTART:20260423T093000
DTSTAMP:20260423T062340
END:VEVENT
END:VCALENDAR