BEGIN:VCALENDAR
VERSION:2.0
PRODID:http://www.infomax-online.de/imxeventmanager/
METHOD:PUBLISH
BEGIN:VTIMEZONE
TZID:Europe/Berlin
TZURL:http://tzurl.org/zoneinfo-outlook/Europe/Berlin
X-LIC-LOCATION:Europe/Berlin
END:VTIMEZONE
BEGIN:VEVENT
UID:69ed099396491
LOCATION:Am Kurpark , 23683 Scharbeutz
SUMMARY;ENCODING=QUOTED-PRINTABLE:Mai & Meer
DESCRIPTION;ENCODING=QUOTED-PRINTABLE:Vier Tage voller Musik, Genuss und guter Laune im Kurpark Scharbeutz.=0D=0A=0D=0ADer Frühling ist da – und wir feiern ihn dort, wo er am schönsten=0D=0Aist: direkt am Meer! Freue dich auf vier abwechslungsreiche Tage=0D=0Avoller Musik, Genuss und unvergesslicher Momente bei unserer=0D=0AVeranstaltung „Mai & Meer“. Ob ausgelassene Partystimmung,=0D=0Ahochwertige Live-Musik oder das traditionelle Anbaden – hier ist=0D=0Afür jeden etwas dabei.=0D=0A=0D=0ADONNERSTAG, 30. APRIL – TANZ IN DEN MAI=0D=0ADen Auftakt macht eine stimmungsvolle DJ-Party mit DJ Guido Eichstedt.=0D=0AVon 18:00 bis 01:00 Uhr verwandelt sich die Küste in eine Tanzfläche=0D=0Aunter freiem Himmel. Feiern Sie mit uns in den Mai hinein und=0D=0Agenießen Sie die besondere Atmosphäre direkt an der Ostsee.=0D=0A=0D=0AFREITAG, 01.05. – LIVE MUSIK & Gastro  Der Feiertag wird=0D=0Amusikalisch! Freut euch auf großartige Live-Acts und ein=0D=0Avielfältiges gastronomisches Angebot – perfekt für einen=0D=0Aentspannten Frühlingstag am Meer.=0D=0A13 -18 Uhr Thomas Melzer, Rock- & Popcover akustisch=0D=0A18 -22 Uhr Crank it Up - Oldies / Classic Rock=0D=0A=0D=0ASAMSTAG, 02.05. – DAS HIGHLIGHT: ANBADEN IN SCHARBEUTZ! Mutige vor!=0D=0ABeim traditionellen Anbaden stürzen wir uns gemeinsam in die Ostsee.=0D=0AEin riesiger Spaß für Teilnehmende und Zuschauende – Gänsehaut=0D=0Agarantiert! Im Anschluss laden Musik und Kulinarik zum Weiterfeiern=0D=0Aein.=0D=0AMusikalische Begleitung gibt es von=0D=0A13 -18 Uhr mit Michael Jessen - Classic Rock- & Popklassiker und=0D=0A18 - 22 Uhr die Gruppe Jessen and Band - Classic Rock (60er/70er).=0D=0A=0D=0ASONNTAG, 03.05. – LIVE MUSIK & Gastro: Zum Abschluss genießen wir=0D=0Anoch einmal beste Live-Musik von 13- 18 Uhr mit Van Steef (Rock- &=0D=0APopcover) und leckere Spezialitäten. Lasst das Wochenende entspannt=0D=0Aausklingen – mit Meeresrauschen im Ohr und Sonne im Gesicht.  Kommt=0D=0Avorbei, bringt eure Freunde mit und erlebt vier Tage voller=0D=0AFrühlingsgefühle bei Mai & Meer in Scharbeutz!=0D=0A
URL;VALUE=URI:https://hamburgwhl.infomaxnet.de/standard_widget_de/e-mai-meer?eventDateId=30080919&widgetToken=22vcqFKw4GE.&
CLASS:PUBLIC
DTSTART:20260501T110000
DTSTAMP:20260425T203603
END:VEVENT
END:VCALENDAR