BEGIN:VCALENDAR
VERSION:2.0
PRODID:http://www.infomax-online.de/imxeventmanager/
METHOD:PUBLISH
BEGIN:VTIMEZONE
TZID:Europe/Berlin
TZURL:http://tzurl.org/zoneinfo-outlook/Europe/Berlin
X-LIC-LOCATION:Europe/Berlin
END:VTIMEZONE
BEGIN:VEVENT
UID:69e66b8ac4866
LOCATION:Am Seglerhafen 1, 23769 Fehmarn
SUMMARY;ENCODING=QUOTED-PRINTABLE:Siebdruck Workshops
DESCRIPTION;ENCODING=QUOTED-PRINTABLE:SUNDsign bietet verschiedene Workshops rund um das Thema Siebdruck an.=0D=0ADruck dich glücklich und lerne die bunte Welt des Siebdrucks kennen.=0D=0A=0D=0AManchmal braucht es nur ein paar kreative Stunden am Meer, um den Kopf=0D=0Afrei zu bekommen.=0D=0A=0D=0AIn meinen Siebdruck Workshops lade ich dich ein, den Alltag hinter dir=0D=0Azu lassen und das Handwerk des Siebdrucks mit bunten Farben und=0D=0AStoffen zu erleben.=0D=0A=0D=0AGedruckt wird im KreativWerk in Lemkenhafen, einem Ort mit Blick auf=0D=0Adas Wasser, umgeben von Hafenflair, Wind und Inselruhe.=0D=0A=0D=0AIn kleinen Gruppen begleite ich dich persönlich durch den Prozess des=0D=0ASiebdrucks. Ob Anfänger:in oder mit Vorerfahrung, hier geht es nicht=0D=0Aum Perfektion, sondern um Freude am Gestalten, Ausprobieren,=0D=0AErschaffen und Handwerken.=0D=0A=0D=0AWir drucken vorwiegend auf Textilien. Eine kleine Auswahl für=0D=0APapierdrucke ist ebenfalls möglich.=0D=0A=0D=0AKey Facts=0D=0A=0D=0A– ab 49€ pro Person (teilweise Druckträger inklusive)=0D=0A– ab 2 Std kreative Auszeit mit Farbe an den Händen und frischer=0D=0AMeeresluft im Kopf=0D=0A– dazu Drinks, Sekt & Snacks genießen=0D=0A– gemeinsames Gestalten in entspannter Atmosphäre=0D=0A– und am Ende deine ganz eigenen handbedruckten Lieblingsstücke mit=0D=0Anach Hause nehmen=0D=0A=0D=0AAlle Materialien wie Siebe verschiedenen Motiven, Farben, Rakel und=0D=0Aeiner Schürze zum Schutz deiner Kleidung sind immer inklusive. Die=0D=0ADruckträger/Rohlinge sind nur teilweise bei den Workshops enthalten.=0D=0A=0D=0AMeine Workshops sind für kreative Seelen, Inselverliebte,=0D=0AUrlauber:innen, Künstler:innen, Neugierige – für alle, die Lust=0D=0Ahaben, etwas mit den eigenen Händen zu erschaffen und den Moment zu=0D=0Agenießen.=0D=0A
URL;VALUE=URI:https://hamburgwhl.infomaxnet.de/standard_widget_de/e-siebdruck-workshops?eventDateId=30080862&widgetToken=22vcqFKw4GE.&
CLASS:PUBLIC
DTSTART:20260422T100000
DTSTAMP:20260420T200810
END:VEVENT
END:VCALENDAR