BEGIN:VCALENDAR
VERSION:2.0
PRODID:http://www.infomax-online.de/imxeventmanager/
METHOD:PUBLISH
BEGIN:VTIMEZONE
TZID:Europe/Berlin
TZURL:http://tzurl.org/zoneinfo-outlook/Europe/Berlin
X-LIC-LOCATION:Europe/Berlin
END:VTIMEZONE
BEGIN:VEVENT
UID:69e9f2aca8741
LOCATION:Am Waldbad , 24576 Bad Bramstedt
SUMMARY;ENCODING=QUOTED-PRINTABLE:Wald Führung
DESCRIPTION;ENCODING=QUOTED-PRINTABLE:Entdecken Sie die Flora und Fauna des Alten Waldbades gemeinsam mit=0D=0ANatur- und Landschaftsführerin Gisela Oden-Behrendt.=0D=0A=0D=0ABegeben Sie sich gemeinsam mit der zertifizierten Natur- und=0D=0ALandschaftsführerin Gisela Oden-Behrendt auf einen stimmungsvollen=0D=0ANaturspaziergang durch das idyllische Alte Waldbad in Bad Bramstedt.=0D=0A=0D=0AInmitten der ursprünglichen Schönheit des alten Kurgebietes=0D=0Aentdecken Sie vielfältige Waldformen und geheimnisvolle Sumpfwiesen.=0D=0AHalten Sie Ausschau nach heimischen Tieren und Pflanzen und tauchen=0D=0ASie zugleich in die spannende Geschichte dieses besonderen Naturraums=0D=0Aein — vom traditionsreichen Waldbad bis hin zu einem beeindruckenden=0D=0AHügelgrab.=0D=0A=0D=0AEin Naturerlebnis für alle, die Flora, Fauna und Geschichte mit neuen=0D=0AAugen sehen möchten.=0D=0A=0D=0ADie Gehstrecke beträgt etwa 2 km. Bitte denken Sie an festes=0D=0ASchuhwerk, Insektenabwehr und evtl. ein Fernglas.=0D=0A=0D=0AMaximal 12 Personen pro Führung. Buchung hier online oder vor Ort.=0D=0A=0D=0AAus Rücksicht auf die Tiere bitten wir darum, keine Hunde=0D=0Amitzuführen.=0D=0A
URL;VALUE=URI:https://hamburgwhl.infomaxnet.de/standard_widget_de/e-wald-fuehrung?eventDateId=30077472&widgetToken=22vcqFKw4GE.&
CLASS:PUBLIC
DTSTART:20260419T093000
DTSTAMP:20260423T122132
END:VEVENT
END:VCALENDAR