BEGIN:VCALENDAR
VERSION:2.0
PRODID:http://www.infomax-online.de/imxeventmanager/
METHOD:PUBLISH
BEGIN:VTIMEZONE
TZID:Europe/Berlin
TZURL:http://tzurl.org/zoneinfo-outlook/Europe/Berlin
X-LIC-LOCATION:Europe/Berlin
END:VTIMEZONE
BEGIN:VEVENT
UID:69e8e558583ab
LOCATION:Am Markt 14, 19055 Schwerin
SUMMARY;ENCODING=QUOTED-PRINTABLE:Lesung mit Grit Poppe in Schwerin
DESCRIPTION;ENCODING=QUOTED-PRINTABLE:Grit Poppe liest im Demmlersaal des Rathauses aus dem mit Niklas Poppe=0D=0Averfassten Buch "Verschleppt, verbannt, verschwunden – Deutsche=0D=0AKriegsjugend in Stalins Lagern und Gefängnissen." Thema ist das=0D=0ASchicksal deutscher Jugendlicher in sowjetischen Lagern nach 1945.=0D=0AEintritt frei, Gespräch im Anschluss.=0D=0A=0D=0ALesung und Gespräch mit der Autorin Grit Poppe=0D=0A„Verschleppt, verbannt, verschwunden – Deutsche Kriegsjugend in=0D=0AStalins Lagern und Gefängnissen“=0D=0A=0D=0ADie Fraktion Bündnis 90/Die Grünen/Die PARTEI in der Stadtvertretung=0D=0ASchwerin lädt zu einer Lesung mit anschließendem Gespräch in den=0D=0ADemmlersaal des Rathauses Schwerin ein. Der Eintritt ist frei.=0D=0A=0D=0ADie Autorin Grit Poppe stellt ihr gemeinsam mit Niklas Poppe=0D=0Averfasstes Sachbuch „Verschleppt, verbannt, verschwunden –=0D=0ADeutsche Kriegsjugend in Stalins Lagern und Gefängnissen“ vor. Das=0D=0ABuch widmet sich einem lange wenig beachteten Kapitel der deutschen=0D=0ANachkriegsgeschichte: dem Schicksal deutscher Jugendlicher und junger=0D=0AErwachsener, die nach dem Ende des Zweiten Weltkriegs von sowjetischen=0D=0ABehörden verhaftet und in Lager oder Gefängnisse verschleppt wurden.=0D=0A=0D=0AAuf Grundlage von Zeitzeugenberichten, Dokumenten und historischen=0D=0ARecherchen zeichnen die Autoren bewegende Lebensgeschichten nach und=0D=0Awerfen zugleich einen differenzierten Blick auf die politischen und=0D=0Ahistorischen Hintergründe dieser Repressionen. Das Buch macht=0D=0Adeutlich, wie tief diese Erfahrungen das Leben der Betroffenen=0D=0Ageprägt haben und warum ihre Geschichten bis heute gehört werden=0D=0Asollten.=0D=0A=0D=0AGrit Poppe ist eine vielfach ausgezeichnete Autorin, die sich in ihren=0D=0Aliterarischen und dokumentarischen Arbeiten häufig mit deutscher=0D=0AZeitgeschichte und insbesondere mit Erfahrungen in der DDR=0D=0Abeschäftigt. Gemeinsam mit Niklas Poppe, Historiker und Autor,=0D=0Averbindet sie journalistische Recherche mit erzählerischer Nähe zu=0D=0Aden Zeitzeug:innen.=0D=0A=0D=0AIm Anschluss an die Lesung besteht die Möglichkeit zum Gespräch mit=0D=0Ader Autorin und zum gemeinsamen Austausch.=0D=0A
URL;VALUE=URI:https://hamburgwhl.infomaxnet.de/standard_widget_de/e-lesung-mit-grit-poppe-in-schwerin?eventDateId=30077349&widgetToken=22vcqFKw4GE.&
CLASS:PUBLIC
DTSTART:20260424T180000
DTSTAMP:20260422T171224
END:VEVENT
END:VCALENDAR