BEGIN:VCALENDAR
VERSION:2.0
PRODID:http://www.infomax-online.de/imxeventmanager/
METHOD:PUBLISH
BEGIN:VTIMEZONE
TZID:Europe/Berlin
TZURL:http://tzurl.org/zoneinfo-outlook/Europe/Berlin
X-LIC-LOCATION:Europe/Berlin
END:VTIMEZONE
BEGIN:VEVENT
UID:69ec3095b764c
LOCATION:Kirchdorfer Straße 170, 21109 Hamburg
SUMMARY;ENCODING=QUOTED-PRINTABLE:Gottesdienst mit Konfirmation
DESCRIPTION;ENCODING=QUOTED-PRINTABLE:LEITUNG=0D=0A=0D=0APastor Malte Detje & Diakonin Sanne Reuß=0D=0A=0D=0AVERANSTALTER=0D=0A=0D=0A	* Ev.-luth. Kirchengemeinde Kirchdorf=0D=0A[https://www.nordkirche.de/institution/?nkci=342]=0D=0A=0D=0A
URL;VALUE=URI:https://hamburgwhl.infomaxnet.de/standard_widget_de/e-gottesdienst-mit-konfirmation?eventDateId=30074934&widgetToken=22vcqFKw4GE.&
CLASS:PUBLIC
DTSTART:20260425T110000
DTSTAMP:20260425T051013
END:VEVENT
END:VCALENDAR