BEGIN:VCALENDAR
VERSION:2.0
PRODID:http://www.infomax-online.de/imxeventmanager/
METHOD:PUBLISH
BEGIN:VTIMEZONE
TZID:Europe/Berlin
TZURL:http://tzurl.org/zoneinfo-outlook/Europe/Berlin
X-LIC-LOCATION:Europe/Berlin
END:VTIMEZONE
BEGIN:VEVENT
UID:69e7bc081eb76
LOCATION:Eilbektal 33, 22089 Hamburg
SUMMARY;ENCODING=QUOTED-PRINTABLE:Pop-Posaunenchor
DESCRIPTION;ENCODING=QUOTED-PRINTABLE:Der Pop-Posaunenchor gestaltet Kirchenklassiker neu, bringt moderne=0D=0APop-Literatur in Gottesdiensten und Konzerten zum Besten. Jede und=0D=0Ajeder, die/der ein Blechblas- oder Rhythmusinstrument spielt oder=0D=0Aspielen möchte, kann mitmachen.=0D=0A=0D=0ALEITUNG=0D=0A=0D=0AAndreas Lübke=0D=0A=0D=0AVERANSTALTER=0D=0A=0D=0A	* Ev.-luth. Kirchengemeinde Eilbek, Versöhnungskirche=0D=0A[https://www.nordkirche.de/institution/?nkci=1752]=0D=0A=0D=0A
URL;VALUE=URI:https://hamburgwhl.infomaxnet.de/standard_widget_de/e-pop-posaunenchor-97?eventDateId=30074726&widgetToken=22vcqFKw4GE.&
CLASS:PUBLIC
DTSTART:20260421T190000
DTSTAMP:20260421T200352
END:VEVENT
END:VCALENDAR