BEGIN:VCALENDAR
VERSION:2.0
PRODID:http://www.infomax-online.de/imxeventmanager/
METHOD:PUBLISH
BEGIN:VTIMEZONE
TZID:Europe/Berlin
TZURL:http://tzurl.org/zoneinfo-outlook/Europe/Berlin
X-LIC-LOCATION:Europe/Berlin
END:VTIMEZONE
BEGIN:VEVENT
UID:69e7bc60cca71
LOCATION:Eilbektal 33, 22089 Hamburg
SUMMARY;ENCODING=QUOTED-PRINTABLE:Sing and Pray!
DESCRIPTION;ENCODING=QUOTED-PRINTABLE:Wir singen christliche Pop-Songs und was uns sonst noch Spaß macht.=0D=0A=0D=0AEs ist nichts außer Freude am Singen erforderlich!=0D=0A=0D=0ANeue Mitsängerinnen und Mitsänger sind herzlich willkommen!=0D=0A=0D=0ALEITUNG=0D=0A=0D=0AKantor Andreas Lübke=0D=0A=0D=0AVERANSTALTER=0D=0A=0D=0A	* Ev.-luth. Kirchengemeinde Eilbek, Versöhnungskirche=0D=0A[https://www.nordkirche.de/institution/?nkci=1752]=0D=0A=0D=0A
URL;VALUE=URI:https://hamburgwhl.infomaxnet.de/standard_widget_de/e-sing-and-pray-53?eventDateId=30074641&widgetToken=22vcqFKw4GE.&
CLASS:PUBLIC
DTSTART:20260421T180000
DTSTAMP:20260421T200520
END:VEVENT
END:VCALENDAR