BEGIN:VCALENDAR
VERSION:2.0
PRODID:http://www.infomax-online.de/imxeventmanager/
METHOD:PUBLISH
BEGIN:VTIMEZONE
TZID:Europe/Berlin
TZURL:http://tzurl.org/zoneinfo-outlook/Europe/Berlin
X-LIC-LOCATION:Europe/Berlin
END:VTIMEZONE
BEGIN:VEVENT
UID:69e61820751a5
LOCATION:Klöresgang 3, 19053 Schwerin
SUMMARY;ENCODING=QUOTED-PRINTABLE:Schreibwerkstatt
DESCRIPTION;ENCODING=QUOTED-PRINTABLE:mit Silke Hansen=0D=0A=0D=0ABasierend auf persönlichen (Schreib)Erfahrungen werden neue=0D=0ASchreibimpulse gegeben und ermutigt, kreative Sprachelemente und=0D=0Afrische Formen einzusetzen.=0D=0A=0D=0ARaus aus der Schreibroutine, rein in begeistert-begeisternde=0D=0ASchreibleidenschaft.         =0D=0A=0D=0ASchreiben macht glücklich! Geschrieben wird in wertschätzender Runde=0D=0Amit Lust und Spaß am Experimentieren mit Stift auf Papier oder=0D=0ATablet.=0D=0A=0D=0AEine Initiative des Freundeskreises der Stadtbibliothek e.V.=0D=0A
URL;VALUE=URI:https://hamburgwhl.infomaxnet.de/standard_widget_de/e-schreibwerkstatt-197?eventDateId=30067055&widgetToken=22vcqFKw4GE.&
CLASS:PUBLIC
DTSTART:20260423T160000
DTSTAMP:20260420T141216
END:VEVENT
END:VCALENDAR