BEGIN:VCALENDAR
VERSION:2.0
PRODID:http://www.infomax-online.de/imxeventmanager/
METHOD:PUBLISH
BEGIN:VTIMEZONE
TZID:Europe/Berlin
TZURL:http://tzurl.org/zoneinfo-outlook/Europe/Berlin
X-LIC-LOCATION:Europe/Berlin
END:VTIMEZONE
BEGIN:VEVENT
UID:69ea0ae1b6ef4
LOCATION:Museumstraße 23, 22765 Hamburg
SUMMARY;ENCODING=QUOTED-PRINTABLE:Führung durch Blutiger Boden
DESCRIPTION;ENCODING=QUOTED-PRINTABLE:Eine Ausstellung mit Fotografien von Regina Schmeken.=0D=0A=0D=0ADie 60-minütige Führung durch die Sonderausstellung vermittelt=0D=0ABesucher*Innen einen Überblick über die Ausstellung. Süleyman=0D=0ATasköprü wurde am 27. Juni 2001 in seinem Lebensmitteladen in der=0D=0ASchützenstraße in Altona von den Terroristen des=0D=0ANationalsozialistischen Untergrunds (NSU) ermordet. Er war eines von=0D=0Azehn Todesopfern einer brutalen Anschlagsserie, die zwischen 2000 und=0D=0A2007 in acht deutschen Städten von den Rechtsextremisten verübt=0D=0Awurde. Die Verbrechen, die sich lange im Verborgenen abspielten,=0D=0Ahinterließen tiefe gesellschaftliche Spuren. Die Fotografin Regina=0D=0ASchmeken besuchte 2013 und 2015/2016 die Tatorte des NSU. Ihre=0D=0Agroßformatigen Schwarzweißaufnahmen zeigen die verstörende=0D=0ANormalität der Schauplätze von Hass und Gewalt inmitten deutscher=0D=0AStädte. Durch ihre Kamera werden sie zu stillen Zeugnissen der=0D=0AVerbrechen, die sich dort abspielten. Das Altonaer Museum erinnert mit=0D=0Ader Ausstellung an die Mordserie an Enver Simsek, Abdurrahim=0D=0AÖzüdogru, Süleyman Tasköprü, Habil Kiliç, Mehmet Turgut, Ismail=0D=0AYasar, Theodoros Boulgarides, Mehmet Kubasik, Halit Yozgat und=0D=0AMichèle Kiesewetter, die vor 25 Jahren mit dem Mord an Enver Simsek=0D=0Aim Jahr 2000 begann.=0D=0A=0D=0ATeilnahmegebühr: 2 €=0D=0A=0D=0AAb 12 Jahren=0D=0A
URL;VALUE=URI:https://hamburgwhl.infomaxnet.de/standard_widget_de/e-blutiger-boden?eventDateId=30066990&widgetToken=22vcqFKw4GE.&
CLASS:PUBLIC
DTSTART:20260419T150000
DTSTAMP:20260423T140449
END:VEVENT
END:VCALENDAR