BEGIN:VCALENDAR
VERSION:2.0
PRODID:http://www.infomax-online.de/imxeventmanager/
METHOD:PUBLISH
BEGIN:VTIMEZONE
TZID:Europe/Berlin
TZURL:http://tzurl.org/zoneinfo-outlook/Europe/Berlin
X-LIC-LOCATION:Europe/Berlin
END:VTIMEZONE
BEGIN:VEVENT
UID:69ed6c81dcb0e
LOCATION:Schanzenstraße 52, 21683 Stade
SUMMARY;ENCODING=QUOTED-PRINTABLE:Festungsfrühstück
DESCRIPTION;ENCODING=QUOTED-PRINTABLE:Frückstück für Gruppen und Familien=0D=0A=0D=0AErsten Kaffee am Morgen!=0D=0AWer kann schon sagen, dass er in so einer besonderen Atmosphäre=0D=0Agefrühstückt hat?=0D=0ADie Festung Grauerort öffnet sein Frühstücksbuffet und neben=0D=0Ageschichtlichen Mauern und altem Festungscharme können sie nicht nur=0D=0Aihren Kaffee, sondern auch ihr Frühstücksei genießen.=0D=0AAnmeldung:=0D=0Ahttps://www.grauerort.com/fr%C3%BChst%C3%BCck-in-der-festung/=0D=0A
URL;VALUE=URI:https://hamburgwhl.infomaxnet.de/standard_widget_de/e-festungsfruehstueck-1?eventDateId=30065307&widgetToken=22vcqFKw4GE.&
CLASS:PUBLIC
DTSTART:20260426T093000
DTSTAMP:20260426T033809
END:VEVENT
END:VCALENDAR