BEGIN:VCALENDAR
VERSION:2.0
PRODID:http://www.infomax-online.de/imxeventmanager/
METHOD:PUBLISH
BEGIN:VTIMEZONE
TZID:Europe/Berlin
TZURL:http://tzurl.org/zoneinfo-outlook/Europe/Berlin
X-LIC-LOCATION:Europe/Berlin
END:VTIMEZONE
BEGIN:VEVENT
UID:69eacb84bae18
LOCATION:Alexanderstraße 16, 20099 Hamburg
SUMMARY;ENCODING=QUOTED-PRINTABLE:Störtebekers Schatz 
DESCRIPTION;ENCODING=QUOTED-PRINTABLE: =0D=0A=0D=0AHast du schon einmal davon geträumt, einen Piratenschatz zu finden?=0D=0AOnnen Fisser, ein armer Fischerjunge, lebt auf der Insel Borkum. Er=0D=0Aglaubt ganz fest daran, in den Dünen den vergrabenen Schatz des=0D=0Aberühmtesten Piraten der Nordsee zu finden: Störtebekers Schatz. Und=0D=0Adann passiert eines Tages etwas Wunderbares, das sein Leben völlig=0D=0Averändert? =0D=0A=0D=0AAlter: 4 - 10 Jahre=0D=0ADauer: ca. 45min=0D=0A=0D=0AEine Produktion von: ?Hamännchen und Companie?=0D=0AIdee und Spiel: Birgit Hamann=0D=0ARegie: Johanna Pätzold=0D=0A=0D=0AEintritt: Kinder 4?/ Erwachsene 6?=0D=0A
URL;VALUE=URI:https://hamburgwhl.infomaxnet.de/standard_widget_de/e-stoertebekers-schatz?eventDateId=30063191&widgetToken=22vcqFKw4GE.&
CLASS:PUBLIC
DTSTART:20260424T110000
DTSTAMP:20260424T034644
END:VEVENT
END:VCALENDAR