BEGIN:VCALENDAR
VERSION:2.0
PRODID:http://www.infomax-online.de/imxeventmanager/
METHOD:PUBLISH
BEGIN:VTIMEZONE
TZID:Europe/Berlin
TZURL:http://tzurl.org/zoneinfo-outlook/Europe/Berlin
X-LIC-LOCATION:Europe/Berlin
END:VTIMEZONE
BEGIN:VEVENT
UID:69eaf0d9ae3a4
LOCATION:Alexanderstraße 16, 20099 Hamburg
SUMMARY;ENCODING=QUOTED-PRINTABLE:Imaginary Cowboys
DESCRIPTION;ENCODING=QUOTED-PRINTABLE: =0D=0A=0D=0ADie Imaginary Cowboys sind ein Trio aus Hamburg, das Musik spielt als=0D=0Awäre sie der Soundtrack zu einem alten Western-Film, der nie gedreht=0D=0Awurde. Ihre Stücke sind instrumental, eigenkomponiert und verbinden=0D=0Acineatische Klangflächen mit Elementen aus Jazz und Rock. Weite,=0D=0AMelancholie und leise Heldenmomente sind unsere Sprache. =0D=0A=0D=0AEintritt 10?.=0D=0A=0D=0AReservierungen unter info@kulturladen.com=0D=0A=0D=0A =0D=0A
URL;VALUE=URI:https://hamburgwhl.infomaxnet.de/standard_widget_de/e-imaginary-cowboys?eventDateId=30063189&widgetToken=22vcqFKw4GE.&
CLASS:PUBLIC
DTSTART:20260424T200000
DTSTAMP:20260424T062601
END:VEVENT
END:VCALENDAR