BEGIN:VCALENDAR
VERSION:2.0
PRODID:http://www.infomax-online.de/imxeventmanager/
METHOD:PUBLISH
BEGIN:VTIMEZONE
TZID:Europe/Berlin
TZURL:http://tzurl.org/zoneinfo-outlook/Europe/Berlin
X-LIC-LOCATION:Europe/Berlin
END:VTIMEZONE
BEGIN:VEVENT
UID:69ed41d109707
LOCATION:Martinistraße 44a, 20251 Hamburg
SUMMARY;ENCODING=QUOTED-PRINTABLE:Improvisation - 3 x mittwochs
DESCRIPTION;ENCODING=QUOTED-PRINTABLE:KURS S03.26 - IMPROVISATION - 3 X MITTWOCHS - NOCH MEHRERE PLÄTZE=0D=0AFREI!=0D=0A=0D=0ADOZENTIN: VIVIANE EGGERS=0D=0A=0D=0AWas heißt es, wirklich im Moment zu sein? Was braucht es, um ohne=0D=0Afesten=0D=0AText und lange Probe eine lustige oder berührende Szene zu spielen?=0D=0A=0D=0AMit viel Spaß entdeckt Ihr, was oder wer noch so in euch steckt!=0D=0A=0D=0AZEIT: Mittwoch 15., 22. und 29.04.2026 von 19 - 21 Uhr=0D=0A=0D=0AORT: Kunstklinik Eppendorf, Martinistraße 44a, 20251 Hamburg=0D=0A=0D=0AKOSTEN 40 Euro für VHAT/BDAT-Mitglieder, 80 Euro für Exteme=0D=0A=0D=0AANMELDUNG sofort: kurse@vhat.info - 12 Teilnehmer=0D=0A
URL;VALUE=URI:https://hamburgwhl.infomaxnet.de/standard_widget_de/e-improvisation-3-x-mittwochs?eventDateId=30062661&widgetToken=22vcqFKw4GE.&
CLASS:PUBLIC
DTSTART:20260429T190000
DTSTAMP:20260426T003601
END:VEVENT
END:VCALENDAR