BEGIN:VCALENDAR
VERSION:2.0
PRODID:http://www.infomax-online.de/imxeventmanager/
METHOD:PUBLISH
BEGIN:VTIMEZONE
TZID:Europe/Berlin
TZURL:http://tzurl.org/zoneinfo-outlook/Europe/Berlin
X-LIC-LOCATION:Europe/Berlin
END:VTIMEZONE
BEGIN:VEVENT
UID:69e6eb7375ba3
LOCATION:Strandstraße 54, 27638 Wurster Nordseeküste
SUMMARY;ENCODING=QUOTED-PRINTABLE:Watt für alle - Wremen
DESCRIPTION;ENCODING=QUOTED-PRINTABLE:Tauchen Sie ein in die wunderbare Welt des Wattenmeers! Entdecken Sie=0D=0AWattwurm, Strandkrabbe und viele weitere faszinierende Bewohner=0D=0Ahautnah. Hören Sie das geheimnisvolle Knistern des Watts und spüren=0D=0ASie den weichen Schlick unter Ihren Füßen. Begleiten Sie das Team=0D=0Ades Nationalpark-Hauses auf einer spannenden Wattwanderung in Wremen=0D=0Aund erfahren Sie, wie die Überlebenskünstler des Watts in dieser=0D=0Aeinzigartigen Landschaft leben.=0D=0A=0D=0ATauchen Sie ein in die wunderbare Welt des Wattenmeers! Entdecken Sie=0D=0AWattwurm, Strandkrabbe und viele weitere faszinierende Bewohner=0D=0Ahautnah. Hören Sie das geheimnisvolle Knistern des Watts und spüren=0D=0ASie den weichen Schlick unter Ihren Füßen. Begleiten Sie das Team=0D=0Ades Nationalpark-Hauses auf einer spannenden Wattwanderung in Wremen=0D=0Aund erfahren Sie, wie die Überlebenskünstler des Watts in dieser=0D=0Aeinzigartigen Landschaft leben.=0D=0A=0D=0AAnmeldung: per E-Mail, Telefon, online oder persönlich. =0D=0A=0D=0AAusrüstung: An warme, winddichte Bekleidung denken, ggf. Gummistiefel=0D=0Amitbringen.=0D=0A=0D=0ABarrierehinweis:  Das Nationalpark-Haus Wurster Nordseeküste ist=0D=0Azertifiziert durch „Reisen für Alle“. Es ist stufenlos=0D=0Azugänglich, eine behindertengerechte Toilette ist vorhanden.=0D=0A=0D=0A =0D=0A
URL;VALUE=URI:https://hamburgwhl.infomaxnet.de/standard_widget_de/e-watt-fuer-alle-wremen-1?eventDateId=30061449&widgetToken=22vcqFKw4GE.&
CLASS:PUBLIC
DTSTART:20260425T120000
DTSTAMP:20260421T051355
END:VEVENT
END:VCALENDAR