BEGIN:VCALENDAR
VERSION:2.0
PRODID:http://www.infomax-online.de/imxeventmanager/
METHOD:PUBLISH
BEGIN:VTIMEZONE
TZID:Europe/Berlin
TZURL:http://tzurl.org/zoneinfo-outlook/Europe/Berlin
X-LIC-LOCATION:Europe/Berlin
END:VTIMEZONE
BEGIN:VEVENT
UID:69ecf45824b28
LOCATION:Moorfuhrtweg 9, 22301 Hamburg
SUMMARY;ENCODING=QUOTED-PRINTABLE:BÜHNENLUST: RUBY?S RANCH - Folge 272 ?ALLES oder NICHTS?
DESCRIPTION;ENCODING=QUOTED-PRINTABLE:Freiheit, Natur, Gemeinschaft, du selbst sein, von den Fesseln des=0D=0AAlltags befreien ?- das alles findest du auf RUBY?S RANCH, dem=0D=0ACampingplatz, auf dem du sein kannst, wie du bist. Der Campingplatz,=0D=0Awo Erholung mit der Anmeldung beginnt - und das schon seit Jahren.=0D=0A=0D=0ADoch dunkle Wolken tauchen am Horizont dieses Paradieses auf: Das=0D=0Aschnöde Geld legt eine Schlinge um Ruby?s Ranch, die immer enger=0D=0Awird.=0D=0AKann sich die Ranch aus den Fesseln befreien?Wird die authentische=0D=0AWelt des Campingplatzes die Gier des Geldes besiegen?=0D=0A=0D=0AFolge 272 der erfolgreichen Telenovela ?Ruby?s Ranch? mit dem Titel=0D=0A?ALLES oder NICHTS? gibt uns die Antwort.=0D=0A=0D=0AMit Musik, Tanz und schnellen Szenenwechseln führen uns die=0D=0ACharaktere durch die komplett selbst entworfene, turbulente, liebevoll=0D=0Aschrille und (fast) nie ganz ernst gemeinte Handlung ? - auch=0D=0ANichtcamper*innen und Country- und Western-Muffel werden sich ein=0D=0ALächeln nicht verkneifen können.=0D=0A=0D=0A_Und hier der Geheimtipp: Wer als Zuschauer*in im Western Outfit=0D=0Akommt, muss in der Theatersteppe nicht verdursten, sondern kriegt eine=0D=0ALimo zum halben Preis!_=0D=0A=0D=0AMit: Leela Alette Hinrichs (Leitung / Bühne / Regie), Ben David Dilg=0D=0A(Licht / Ton), Moritz Paul (Foto), Andrea Kmiez-Krohn, Andrea Zinn,=0D=0AClaudia Hübner, Bernhard Pauls, Hartmut Tomaschewski, Paloma Nina=0D=0ATorresin, Silke Ratuschni (Spieler*innen)=0D=0A=0D=0AOrt: Bühne zum Hof=0D=0A=0D=0AEintritt: AK 20,- / 15,- | VVK 15,- / 10,-=0D=0A=0D=0AVorverkauf: Karten gibt es auch im hauseigenen Vorverkauf im=0D=0AGoldbekhaus. [https://www.goldbekhaus.de/ueber-uns/kontakt]=0D=0A
URL;VALUE=URI:https://hamburgwhl.infomaxnet.de/standard_widget_de/e-buehnenlust-rubys-ranch-folge-272-alles-oder-nichts-1?eventDateId=30060193&widgetToken=22vcqFKw4GE.&
CLASS:PUBLIC
DTSTART:20260425T193000
DTSTAMP:20260425T190528
END:VEVENT
END:VCALENDAR