BEGIN:VCALENDAR
VERSION:2.0
PRODID:http://www.infomax-online.de/imxeventmanager/
METHOD:PUBLISH
BEGIN:VTIMEZONE
TZID:Europe/Berlin
TZURL:http://tzurl.org/zoneinfo-outlook/Europe/Berlin
X-LIC-LOCATION:Europe/Berlin
END:VTIMEZONE
BEGIN:VEVENT
UID:69ece1f8bb3a0
LOCATION:Moorfuhrtweg 9, 22301 Hamburg
SUMMARY;ENCODING=QUOTED-PRINTABLE:Flohmarkt auf dem Hof
DESCRIPTION;ENCODING=QUOTED-PRINTABLE:Goldbekkanal - und natürlich leckere Bratwürstchen, Kaffee und=0D=0AButterkuchen. Nicht dabei sind kommerzielle Händler*innen und=0D=0ANeuware.=0D=0A=0D=0AUnser Flohmarkt auf dem Hof findet in der Sommersaison statt. An=0D=0Ainsgesamt dreizehn Terminen von April bis Oktober kann nach=0D=0AHerzenslust ver- und gekauft werden. Der Aufbau beginnt ab 9 Uhr,=0D=0AVerkaufszeit ist von 11 bis 16 Uhr.=0D=0A=0D=0AWie miete ich einen Flohmarktstand? Anmeldungen sind ab Samstag, 14.=0D=0AFebruar 2026 hier=0D=0A[https://bpevent-goldbekhaus.msappproxy.net/TischApp/index.html?uuid=60737892C7ADB8409EF353F5768DC10A] möglich.=0D=0A=0D=0AHier geht es zur Übersicht aller Termine der Saison 2026=0D=0A[https://www.goldbekhaus.de/maerkte/flohmarkt-auf-dem-hof/]=0D=0A=0D=0AUnd wenn ich den Markt besuchen möchte? Unsere Gästetickets gibt es=0D=0Aan unserer Tageskasse zu 1,- ?.=0D=0A=0D=0AKommt vorbei!=0D=0A=0D=0AOrt: Hof=0D=0A
URL;VALUE=URI:https://hamburgwhl.infomaxnet.de/standard_widget_de/e-flohmarkt-auf-dem-hof-2-1?eventDateId=30060190&widgetToken=22vcqFKw4GE.&
CLASS:PUBLIC
DTSTART:20260425T110000
DTSTAMP:20260425T174704
END:VEVENT
END:VCALENDAR