BEGIN:VCALENDAR
VERSION:2.0
PRODID:http://www.infomax-online.de/imxeventmanager/
METHOD:PUBLISH
BEGIN:VTIMEZONE
TZID:Europe/Berlin
TZURL:http://tzurl.org/zoneinfo-outlook/Europe/Berlin
X-LIC-LOCATION:Europe/Berlin
END:VTIMEZONE
BEGIN:VEVENT
UID:69eb0dddbd781
LOCATION:Groten Hoff 5, 22359 Hamburg
SUMMARY;ENCODING=QUOTED-PRINTABLE:Workshop "Dein Inneres Team verstehen & führen" nach dem Modell von=0D=0AFriedmann Schulz von Thun
DESCRIPTION;ENCODING=QUOTED-PRINTABLE:Kennst du das Gefühl, dass in dir verschiedene Stimmen sprechen –=0D=0Adie Mutige, die Kritikerin, die Fürsorgliche, die Zweiflerin. Wenn=0D=0Asie nicht miteinander, sondern gegeneinander arbeiten, entstehen=0D=0AStress, Unsicherheit und Selbstzweifel – und das kostet dich enorm=0D=0Aviel Energie.=0D=0A=0D=0AIn diesem eintägigen Workshop, nach dem Modell des Inneren Teams von=0D=0AFriedemann Schulz von Thun lernst du, diese Stimmen zu verstehen und=0D=0Abewusst für dich zu nutzen.=0D=0A=0D=0APraxisnah und konkret - das erwartet dich!=0D=0A=0D=0A- Deine inneren Stimmen verstehen=0D=0A=0D=0A- Innere Konflikte lösen, statt dich weiter zu blockieren=0D=0A=0D=0A- Stress und Selbstzweifel reduzieren=0D=0A=0D=0A- Innere Stabilität gewinnen – auch in schwierigen Situationen=0D=0A=0D=0AIch lade dich herzlich ein in einen geschützten Frauenkreis –einen=0D=0ARaum voller Wertschätzung, vertrauensvoller Atmosphäre und echtem=0D=0AMiteinander. Wir arbeiten in einer kleinen Gruppe (max. 8=0D=0ATeilnehmerinnen) damit genügend Zeit, Tiefe und Raum für=0D=0Apersönlichen Austausch entstehen kann. Du brauchst keinerlei=0D=0AVorkenntnisse.=0D=0A=0D=0AAlles, was du mit bringen darfst, bist du selbst=0D=0A=0D=0ADeine Investition in dich 149 Euro! Ein Tag von 6 Stunden, der etwas=0D=0Ain Bewegung bringt.=0D=0A=0D=0AInklusive für dich:=0D=0A=0D=0A- Inspirierende Arbeitsmaterialien=0D=0A=0D=0A- Getränke & Snacks für dein Wohlbefinden=0D=0A=0D=0A- Ein exklusiver Gutschein für dein persönliches 1:1 Coaching (45=0D=0AMinuten online)=0D=0A=0D=0AWillst Du mehr über mich und den Workshop Erfahren, dann klicke -->=0D=0AWeitere Informationen=0D=0A=0D=0AFreu mich auf Deine Anmeldung und Dich in meinem Workshop begrüßen=0D=0Azu dürfen=0D=0A=0D=0AVerbindliche Anmeldung mit deinen Kontaktdaten direkt bei mir per=0D=0AE-Mail: info@rebeccastruck.com=0D=0A=0D=0AHerzliche Grüße Rebecca Struck=0D=0A=0D=0AÜber mich: Als qualifizierter systemischer Coach und Trainerin in der=0D=0AErwachsenenbildung begleite ich Frauen empathisch, wertschätzend und=0D=0Apragmatisch in Entwicklungs- und Veränderungsprozessen.=0D=0A=0D=0Awww.rebeccastruck.com=0D=0A
URL;VALUE=URI:https://hamburgwhl.infomaxnet.de/standard_widget_de/e-workshop-dein-inneres-team-verstehen-fuehren-nach-dem-modell-von-friedmann-schulz-von-thun?eventDateId=30054541&widgetToken=22vcqFKw4GE.&
CLASS:PUBLIC
DTSTART:20260424T090000
DTSTAMP:20260424T082949
END:VEVENT
END:VCALENDAR