BEGIN:VCALENDAR
VERSION:2.0
PRODID:http://www.infomax-online.de/imxeventmanager/
METHOD:PUBLISH
BEGIN:VTIMEZONE
TZID:Europe/Berlin
TZURL:http://tzurl.org/zoneinfo-outlook/Europe/Berlin
X-LIC-LOCATION:Europe/Berlin
END:VTIMEZONE
BEGIN:VEVENT
UID:69ed1e9e0ae29
LOCATION:Lohbrügger Landstraße 8, 21031 Hamburg
SUMMARY;ENCODING=QUOTED-PRINTABLE:SHINYS BALLROOM - LOLA SWINGT! Live Bigband / Swingtanz-Kurs / DJ
DESCRIPTION;ENCODING=QUOTED-PRINTABLE:Die SHINY STOCKINGS BIG BAND celebriert endlich wieder eine Tanznacht=0D=0Ain der Tradition des legendären New Yorker Savoy Ballrooms. "Home of=0D=0AHappy Feet" - Heimat der glücklichen Füße - nannten die Gäste in=0D=0Aden 30er bis 50er Jahren diesen Tanzsaal: hier trafen sich jedes=0D=0AWochenende die besten Jazzbands, die innovativsten Tänzer und=0D=0ATausende, die einfach nur stilvoll etwas Freude in den Alltag bringen=0D=0Awollten.=0D=0A=0D=0AMit SHINY'S BALLROOM knüpfen wir an diese Tradition an: Mit=0D=0ASwingtanz-Schnupperkurs und ausgewählter Live-Musik. Begleitet von=0D=0Adem amüsant-witzigen Moderator Thomas Hennemann wird der Ballroom zu=0D=0Aeinem Abend unter Freunden, voller Enthusiasmus und mitreißender=0D=0ALebensfreude.=0D=0A
URL;VALUE=URI:https://hamburgwhl.infomaxnet.de/standard_widget_de/e-shinys-ballroom-lola-swingt-live-bigband-swingtanz-kurs-dj-3?eventDateId=30054526&widgetToken=22vcqFKw4GE.&
CLASS:PUBLIC
DTSTART:20260425T193000
DTSTAMP:20260425T220550
END:VEVENT
END:VCALENDAR