BEGIN:VCALENDAR
VERSION:2.0
PRODID:http://www.infomax-online.de/imxeventmanager/
METHOD:PUBLISH
BEGIN:VTIMEZONE
TZID:Europe/Berlin
TZURL:http://tzurl.org/zoneinfo-outlook/Europe/Berlin
X-LIC-LOCATION:Europe/Berlin
END:VTIMEZONE
BEGIN:VEVENT
UID:69ed2ea66aa67
LOCATION:Poelchaukamp 33, 22301 Hamburg
SUMMARY;ENCODING=QUOTED-PRINTABLE:Siberian Nights - Brunch & Day Drinking
DESCRIPTION;ENCODING=QUOTED-PRINTABLE:Der Siberian Express heißt Euch herzlich willkommen zurück im neuen=0D=0AJahr=0D=0A=0D=0AAm Samstag, den 25.04.2026, laden wir Euch von 13:00 bis 18:00 Uhr zu=0D=0Aeinem besonderen Brunch & Day Drinking in das PATIO Hamburg ein.=0D=0ADieses Event steht für eine Atmosphäre, die Genuss und elegante=0D=0AParty perfekt verbindet.=0D=0A=0D=0AFreut Euch auf gute Musik von talentierten DJs, die für das passende=0D=0Amusikalische Ambiente sorgen, eiskalte Drinks und leckeres Essen in=0D=0Alockerer Stimmung. Von entspannten Vibes zum Ankommen bis zu Beats,=0D=0Adie euch in Feierlaune bringen, ist für alles gesorgt.=0D=0A=0D=0AKulinarisch erwarten Euch köstliche Speisen vor Ort sowie eine=0D=0AAuswahl an erfrischenden Getränken. Hierbei empfehlen wir wärmstens=0D=0Aunseren Siberian Express Vodka.=0D=0A=0D=0AOb mit Freunden, Kollegen oder einfach zum genießen - dieser Tag=0D=0Agehört euch.=0D=0A=0D=0AWir verwandeln die Hamburger Tage in sibirische Nächte.=0D=0A=0D=0AWer zuerst kommt, mahlt zuerst - begrenzte Tischplätze.=0D=0A=0D=0ASichert Euch Euer Ticket und erlebt einen Samstag voller Genuss, guter=0D=0AMusik und besonderer Momente.=0D=0A=0D=0AWann: 25.04.2026 von 13:00 bis 18:00 Uhr=0D=0A=0D=0AMusik: Electronic, House, Afrohouse=0D=0A=0D=0ADresscode: Casual, After Work, Elegant=0D=0A=0D=0ASiberian Nights - Brunch. Drinks. Beats. Party=0D=0A
URL;VALUE=URI:https://hamburgwhl.infomaxnet.de/standard_widget_de/e-siberian-nights-brunch-day-drinking?eventDateId=30053874&widgetToken=22vcqFKw4GE.&
CLASS:PUBLIC
DTSTART:20260425T130000
DTSTAMP:20260425T231414
END:VEVENT
END:VCALENDAR