BEGIN:VCALENDAR
VERSION:2.0
PRODID:http://www.infomax-online.de/imxeventmanager/
METHOD:PUBLISH
BEGIN:VTIMEZONE
TZID:Europe/Berlin
TZURL:http://tzurl.org/zoneinfo-outlook/Europe/Berlin
X-LIC-LOCATION:Europe/Berlin
END:VTIMEZONE
BEGIN:VEVENT
UID:69eca2bb5da5c
LOCATION:Platz der Deutschen Einheit 1, 20457 Hamburg
SUMMARY;ENCODING=QUOTED-PRINTABLE:Chamber Orchestra of Europe / Sir Simon Rattle
DESCRIPTION;ENCODING=QUOTED-PRINTABLE:Sir Simon Rattle und das Chamber Orchestra of Europe: Seit der ersten=0D=0AZusammenarbeit 2020 sind sie ein Dreamteam – mittlerweile hat der=0D=0Ainternationale Klangkörper den Stardirigenten zum Ehrenmitglied=0D=0Aerhoben. Ihr zweites gemeinsames Elbphilharmonie-Konzert stellt das=0D=0AOrchester ganz in den Mittelpunkt mit einem rhythmischen Feuerwerk von=0D=0ABartók und der Klangfülle von Brahms’ Vierter Sinfonie. =0D=0A=0D=0AErst 2024 hat das Chamber Orchestra of Europe eine Aufnahme aller=0D=0ABrahms-Sinfonien veröffentlicht. Das Orchester zelebriert die=0D=0Akammermusikalischen Seiten der Musik, schafft größte Transparenz und=0D=0Awird doch von der mitreißenden Energie von Sir Simon zum großen=0D=0Asinfonischen Ganzen verschmolzen. =0D=0A=0D=0APerfektes Zusammenspiel verlangt auch Béla Bartók, damit seine=0D=0Avertrackten Rhythmen für die ungewöhnliche Besetzung aus=0D=0ASaiteninstrumenten – also Streichern, Klavier und Harfe –, Celesta=0D=0Aund viel Schlagwerk so federleicht und schwungvoll klingen wie ein=0D=0AVolkstanz aus Bartóks ungarischer Heimat. Damit machen Rattle und das=0D=0AChamber Orchestra of Europe auch die Gemeinsamkeiten der beiden=0D=0AKomponisten hörbar: Brahms und Bartók komponierten so strukturiert=0D=0Aund beinahe mathematisch wie voller Leidenschaft, sie liebten die=0D=0Aungarische Volksmusik und eroberten mit dieser Kombination die Herzen=0D=0Avon Publikum und Musiker:innen.=0D=0A=0D=0ABESETZUNG=0D=0A=0D=0ACHAMBER ORCHESTRA OF EUROPE Orchester=0D=0A=0D=0ASIR SIMON RATTLE Dirigent=0D=0A=0D=0APROGRAMM=0D=0A=0D=0ABÉLA BARTÓK=0D=0AMusik für Saiteninstrumente, Schlagzeug und Celesta Sz 106=0D=0A=0D=0A- Pause -=0D=0A=0D=0AFERRUCCIO BUSONI=0D=0ASarabande=0D=0A=0D=0AJOHANNES BRAHMS=0D=0ASinfonie Nr. 4 e-Moll op. 98=0D=0A
URL;VALUE=URI:https://hamburgwhl.infomaxnet.de/standard_widget_de/e-chamber-orchestra-of-europe-sir-simon-rattle?eventDateId=30047976&widgetToken=22vcqFKw4GE.&
CLASS:PUBLIC
DTSTART:20260426T200000
DTSTAMP:20260425T131715
END:VEVENT
END:VCALENDAR