BEGIN:VCALENDAR
VERSION:2.0
PRODID:http://www.infomax-online.de/imxeventmanager/
METHOD:PUBLISH
BEGIN:VTIMEZONE
TZID:Europe/Berlin
TZURL:http://tzurl.org/zoneinfo-outlook/Europe/Berlin
X-LIC-LOCATION:Europe/Berlin
END:VTIMEZONE
BEGIN:VEVENT
UID:69e8b9cbb2730
LOCATION:Linnering 1, 22299 Hamburg
SUMMARY;ENCODING=QUOTED-PRINTABLE:Polaris und das Rätsel der Polarnacht
DESCRIPTION;ENCODING=QUOTED-PRINTABLE:Eine Veranstaltung der Reihe Earth Day - Planetarium Hamburg=0D=0A=0D=0AEarth Day - Planetarium Hamburg=0D=0A
URL;VALUE=URI:https://hamburgwhl.infomaxnet.de/standard_widget_de/e-polaris-und-das-raetsel-der-polarnacht-1?eventDateId=30047802&widgetToken=22vcqFKw4GE.&
CLASS:PUBLIC
DTSTART:20260422T143200
DTSTAMP:20260422T140635
END:VEVENT
END:VCALENDAR