BEGIN:VCALENDAR
VERSION:2.0
PRODID:http://www.infomax-online.de/imxeventmanager/
METHOD:PUBLISH
BEGIN:VTIMEZONE
TZID:Europe/Berlin
TZURL:http://tzurl.org/zoneinfo-outlook/Europe/Berlin
X-LIC-LOCATION:Europe/Berlin
END:VTIMEZONE
BEGIN:VEVENT
UID:69e89fe004b63
LOCATION:Linnering 1, 22299 Hamburg
SUMMARY;ENCODING=QUOTED-PRINTABLE:Meine Heimat – Unser blauer Planet
DESCRIPTION;ENCODING=QUOTED-PRINTABLE:Eine Veranstaltung der Reihe Earth Day - Planetarium Hamburg=0D=0A=0D=0AEarth Day - Planetarium Hamburg=0D=0A
URL;VALUE=URI:https://hamburgwhl.infomaxnet.de/standard_widget_de/e-meine-heimat-unser-blauer-planet-1?eventDateId=30047799&widgetToken=22vcqFKw4GE.&
CLASS:PUBLIC
DTSTART:20260422T093100
DTSTAMP:20260422T121600
END:VEVENT
END:VCALENDAR