BEGIN:VCALENDAR
VERSION:2.0
PRODID:http://www.infomax-online.de/imxeventmanager/
METHOD:PUBLISH
BEGIN:VTIMEZONE
TZID:Europe/Berlin
TZURL:http://tzurl.org/zoneinfo-outlook/Europe/Berlin
X-LIC-LOCATION:Europe/Berlin
END:VTIMEZONE
BEGIN:VEVENT
UID:69ed1b8de5fdd
LOCATION:Schulterblatt 73, 20357 Hamburg
SUMMARY;ENCODING=QUOTED-PRINTABLE:Torture the Artist pres. eDEMi w/ Miami Beats (House / Hip Hop)
DESCRIPTION;ENCODING=QUOTED-PRINTABLE:TORTURE THE ARTIST PRES. EDEMI W/ MIAMI BEAT$ 93 (BEET WORLDWIDE &=0D=0APERLITO)=0D=0A=0D=0AStream starts 5:00 PM (Salon, 1st floor) | Main event starts 10:00 PM=0D=0A=0D=0AWith its next edition, Torture the Artist pres. eDEMi raises the bar=0D=0Aonce again – bringing two standout names from Amsterdam's=0D=0Aunderground to Hamburg: Beet WorldWide and Perlito of the Miami Beat$=0D=0A93 collective. Marking a key moment for the series, the night will=0D=0Aalso feature the first-ever live set in eDEMi history.=0D=0A=0D=0AAmsterdam's Miami Beat$ 93 have built a distinct identity through=0D=0Atheir fusion of raw House grooves and underground HipHop aesthetics.=0D=0ATheir releases on Tanzform — Welcome To Miami and Pink Lambo —=0D=0Achannel the spirit of early HipHop while pushing it into club-focused=0D=0Aterritory with stripped-back drums, heavy swing, and a gritty,=0D=0Anostalgic edge.=0D=0A=0D=0ARepresenting the collective, Perlito will bring this energy to the=0D=0Adancefloor of the Anbau at Haus 73, while Beet WorldWide delivers a=0D=0Aspecial live performance — both for the recorded pre-event stream=0D=0Aand later during the club night itself. This dual appearance not only=0D=0Ahighlights his versatility but also introduces a new dimension to the=0D=0AeDEMi format.=0D=0A=0D=0AThe stream session will be joined by G-L'amour, who returns after a=0D=0Astandout appearance in December, and Sara Bubamara, adding fresh=0D=0Aperspectives to the early part of the evening. Together with Holger=0D=0ABreuer the session sets the tone with a blend of intimate listening=0D=0Aand forward-thinking club sound.=0D=0A=0D=0AAt the main event in the Anbau, the Amsterdam guests will be joined by=0D=0ALukas Urbaum, strengthening the connection between Torture the=0D=0AArtist's core artists and its extended network. Alongside Holger=0D=0ABreuer, the lineup reflects the platform's ongoing commitment to=0D=0Acarefully curated, artist-driven programming.=0D=0A=0D=0AWith Beet WorldWide and Perlito arriving from Amsterdam, this edition=0D=0Aonce again underlines Torture the Artist's dedication to bringing=0D=0Ascene-defining artists and underground heavyweights to Hamburg.=0D=0AIntroducing the first live set in the series while expanding its=0D=0Anetwork across cities, this is another statement booking - and another=0D=0Astep in shaping the sound of the underground.=0D=0A=0D=0ATorture the Artist pres. eDEMi - continuing to connect underground=0D=0Ascenes, one night at a time.=0D=0A=0D=0AMiami Beat$ 93: https://www.instagram.com/miamibeats93=0D=0A=0D=0AHolger Breuer: https://www.instagram.com/holger_tta=0D=0A=0D=0AG-L’amour: https://www.instagram.com/g_lamour98=0D=0A=0D=0ASara Bubamara: https://www.instagram.com/sarabubamara___=0D=0A=0D=0ALukas Urbaum: https://www.instagram.com/lksurbm=0D=0A=0D=0ATorture the Artist: https://www.instagram.com/torture_the_artist=0D=0A=0D=0A--------------=0D=0A=0D=0AAwareness-Team available. If you feel uncomfortable please ask our=0D=0Astuff for help or scan the qr-codes on our AW-flyer in all of our=0D=0Aroom’s of Haus73 to reach the Awarness-Team.=0D=0A=0D=0APlease note that we are place with zero tolerance for rasicm, facism=0D=0Aor any kind of discrimination.=0D=0A=0D=0AHaus 73 - Clubevent @ Anbau=0D=0ASchulterblatt 73, 20357 Hamburg=0D=0Ahttps://www.instagram.com/haus.73=0D=0Ahttps://www.dreiundsiebzig.de/anbau=0D=0A
URL;VALUE=URI:https://hamburgwhl.infomaxnet.de/standard_widget_de/e-torture-the-artist-pres-edemi-w-miami-beats-house-hip-hop?eventDateId=30046112&widgetToken=22vcqFKw4GE.&
CLASS:PUBLIC
DTSTART:20260425T170000
DTSTAMP:20260425T215245
END:VEVENT
END:VCALENDAR