BEGIN:VCALENDAR
VERSION:2.0
PRODID:http://www.infomax-online.de/imxeventmanager/
METHOD:PUBLISH
BEGIN:VTIMEZONE
TZID:Europe/Berlin
TZURL:http://tzurl.org/zoneinfo-outlook/Europe/Berlin
X-LIC-LOCATION:Europe/Berlin
END:VTIMEZONE
BEGIN:VEVENT
UID:69e9e8e5524b5
LOCATION:Milchstraße 12, 20148 Hamburg
SUMMARY;ENCODING=QUOTED-PRINTABLE:FatJazz: Gabriel Coburger Quartet feat. Sandra Hempel
DESCRIPTION;ENCODING=QUOTED-PRINTABLE:Einlass: 18:30 | Beginn: 19:30 |=0D=0A=0D=0A =0D=0A=0D=0ADas FatJazz-Format der JazzHall präsentiert an diesem Abend zwei=0D=0Akontrastreiche Sets, die aktuelle Positionen des modernen Jazz=0D=0Amiteinander verbinden. Unter der künstlerischen Leitung von Oliver=0D=0ANerlich und Gabriel Coburger trifft im ersten Set eine profilierte=0D=0AModern-Jazz-Formation aufeinander, bevor im zweiten Set das JazzHall=0D=0AEnsemble mit eigenen Kompositionen und komplexen Arrangements den Raum=0D=0Aöffnet für neue klangliche Perspektiven.=0D=0A=0D=0A1. Set: Gabriel Coburger Quartet feat. Sandra Hempel Mit großer=0D=0Astilistischer Offenheit und präziser Interaktion widmet sich das=0D=0AQuartett zeitgenössischem Modern Jazz zwischen klaren Linien,=0D=0Aenergetischen Improvisationen und feinen klanglichen Schattierungen.=0D=0AAls Special Guest bereichert Sandra Hempel das Ensemble mit ihrem=0D=0Acharakteristischen Gitarrenspiel – transparent, kraftvoll und stets=0D=0Adialogisch.=0D=0A=0D=0A2. Set: JazzHall Ensemble Das JazzHall Ensemble vereint ausgewählte=0D=0AMasterstudent:innen des Jazzstudiengangs der HfMT Hamburg. Unter der=0D=0ALeitung von Gabriel Coburger treffen sich die Musiker:innen zehnmal=0D=0Apro Semester zu intensiver Probenarbeit, um eigene Kompositionen in=0D=0Aanspruchsvollen, modernen Arrangements zu entwickeln. Das Ergebnis ist=0D=0Aein vielschichtiges, stilistisch offenes Set – geprägt von Energie,=0D=0AMut und klanglicher Neugier, in dem individuelle Handschriften und=0D=0Akollektives Musizieren aufeinandertreffen.=0D=0A=0D=0AZur Gastmusikerin: Sandra Hempel Sandra Hempel ist eine deutsche=0D=0AJazzgitarristin aus der Nähe von Hamburg. Sie studierte Jazzgitarre=0D=0Ain Hamburg, Amsterdam und New York und schloss ihr Studium 2003 mit=0D=0Aeinem Masterabschluss am Queens College (NYC) ab. International aktiv,=0D=0Aarbeitete sie mit zahlreichen renommierten Jazzmusiker:innen und=0D=0AEnsembles zusammen und ist Mitglied der NDR Bigband. Neben ihrer=0D=0AKonzerttätigkeit unterrichtet sie an Musikhochschulen und bei=0D=0AJazzworkshops. Früh erhielt sie internationale Auszeichnungen,=0D=0Adarunter den „Sisters in Jazz“-Wettbewerb und den Louis Armstrong=0D=0AAward. Ihre Musik ist geprägt von Eigenkompositionen und neu=0D=0Ainterpretierten Jazzstandards – offen, modern und persönlich.=0D=0A=0D=0AMit freundlicher Unterstützung von: Hamburgische Kulturstiftung+=0D=0AFISCHER-STIFTUNG=0D=0A=0D=0A_________________________=0D=0A=0D=0ALine-Up:=0D=0A=0D=0ASandra Hempel – Gitarre=0D=0A=0D=0AGabriel Coburger – Saxophone=0D=0A=0D=0AGiorgi Kiknadze – Bass=0D=0A=0D=0ARoland Schneider – Schlagzeug=0D=0A=0D=0A =0D=0A=0D=0A+ JazzHall Ensemble=0D=0A=0D=0A_________________________=0D=0A=0D=0AKonzert / Fat Jazz:=0D=0A=0D=0ATickets unter:=0D=0A=0D=0Ahttps://www.tixforgigs.com/de-DE/Home/Search?searchText=FATJAZZ+in+der+JazzHall+-+SANDRA+HEMPEL=0D=0A=0D=0A___________________________________=0D=0A=0D=0AEintritt und Vorverkauf: Siehe Ticketlink. Abendkasse: Gibt es, sofern=0D=0Anicht vorab ausverkauft.=0D=0A=0D=0ATickets:=0D=0Ahttps://www.tixforgigs.com/de-DE/Home/Search?searchText=FATJAZZ+in+der+JazzHall+-+SANDRA+HEMPEL=0D=0A=0D=0ADer Einlass zur JazzHall erfolgt über den Haupteingang der Hochschule=0D=0Afür Musik und Theater in der Milchstraße 12 - nicht über den=0D=0AHarvestehuder Weg.=0D=0A=0D=0AVeranstalter des Abends (bei Fragen zu Tickets oder Programm bitte=0D=0Adirekt kontaktieren): Jazz@HfMT (jazzhall@hfmt-hamburg.de)=0D=0A
URL;VALUE=URI:https://hamburgwhl.infomaxnet.de/standard_widget_de/e-fatjazz-gabriel-coburger-quartet-feat-sandra-hempel?eventDateId=30046032&widgetToken=22vcqFKw4GE.&
CLASS:PUBLIC
DTSTART:20260423T183000
DTSTAMP:20260423T113949
END:VEVENT
END:VCALENDAR