BEGIN:VCALENDAR
VERSION:2.0
PRODID:http://www.infomax-online.de/imxeventmanager/
METHOD:PUBLISH
BEGIN:VTIMEZONE
TZID:Europe/Berlin
TZURL:http://tzurl.org/zoneinfo-outlook/Europe/Berlin
X-LIC-LOCATION:Europe/Berlin
END:VTIMEZONE
BEGIN:VEVENT
UID:69e83eafa63a9
LOCATION:Milchstraße 12, 20148 Hamburg
SUMMARY;ENCODING=QUOTED-PRINTABLE:Lost Seas: The Beginning / MONKA (Band Night)
DESCRIPTION;ENCODING=QUOTED-PRINTABLE:Einlass: 18:30 | Beginn: 19:30 |=0D=0A=0D=0A =0D=0A=0D=0A»Lost Seas« von Myrsini Bekakou entfaltet sich als Suite über den=0D=0Aschleichenden Verlust der Meereswelt in Folge von Überfischung,=0D=0AUmweltverschmutzung und zunehmender Ausbeutung mariner Lebensräume.=0D=0AAus Küstenlandschaften Kretas und der über Jahre beobachteten=0D=0AVeränderung gespeist, trägt die Musik eine stille Melancholie und=0D=0ANostalgie: Erinnerung an ein einst klar und unberührt erscheinendes=0D=0AMeer, verwandt mit der Unbeschwertheit der Kindheit. Elemente=0D=0Agriechischer Musik prägen die Sprache des Werks. Anlässlich der=0D=0AAbschlussprüfung im Fach Komposition präsentiert Myrsini Bekakou ihr=0D=0AEnsemble aus Streichquartett, Gitarre, Kontrabass und Schlagzeug;=0D=0AKomposition und Improvisation öffnen den Blick auf mediterrane=0D=0AKlangfarben.=0D=0A=0D=0ASängerin und Komponistin Monta Tupčijenko präsentiert ihr=0D=0AProgressive-Rock- und Jazz-Fusion-Projekt »Monka«. Aus einer lange=0D=0Agereiften Idee entstand, getragen von einem zufällig entdeckten=0D=0Agemeinsamen musikalischen Interesse, ein künstlerisches=0D=0AHerzensprojekt von fünf Musiker:innen: eine geteilte Klangwelt=0D=0Azwischen Art-Pop, komplexer Rhythmik und energetischer Rockästhetik.=0D=0ADie Musik changiert zwischen fragiler Melancholie und eruptiver=0D=0AAggression; dunkle Synthesizerflächen treffen auf treibende Grooves,=0D=0Aexpressive Vokallinien auf improvisatorische Offenheit.=0D=0AKompositorische Präzision verbindet sich mit spontaner Energie –=0D=0Aemotional unmittelbar, strukturell anspruchsvoll. Inspiriert von=0D=0ABjörk, Anja Garbarek, Fall Out Boy, The Bad Plus und Tigran Hamasyan.=0D=0A=0D=0A_________________________=0D=0A=0D=0ALine-Up:=0D=0A=0D=0AMyrsini Bekakou — Violine, Elektronik, Komposition=0D=0A=0D=0AAlma Gröning — Violine=0D=0A=0D=0ADavis West — Viola=0D=0A=0D=0AEsther Thoben — Cello=0D=0A=0D=0AJuan Pablo Ortiz Carrera — E-Gitarre=0D=0A=0D=0AJair Gonzales — Kontrabass, E-Bass=0D=0A=0D=0AMatteo Stefani — Schlagzeug, Perkussion=0D=0A=0D=0A =0D=0A=0D=0AMonta Tupčijenko — Gesang, Synthesizer=0D=0A=0D=0ATilman Fehse — Gesang, Synthesizer=0D=0A=0D=0ACaspar Rutsch — Tenorsaxophon, Klarinette, Flöte=0D=0A=0D=0AJulian Eingang — Kontrabass, Synthesizer=0D=0A=0D=0AJonas Grätzer — Schlagzeug, Elektronik=0D=0A=0D=0A_________________________=0D=0A=0D=0Awww.montatupcijenko.com=0D=0A=0D=0Ahttps://on.soundcloud.com/HV4HTNCPkc6yCYTWld=0D=0A=0D=0A___________________________________=0D=0A=0D=0AEintritt und Vorverkauf: Siehe Ticketlink. Abendkasse: Gibt es, sofern=0D=0Anicht vorab ausverkauft.=0D=0A=0D=0ATickets: https://jazzhall.hfmt-hamburg.de/tickets/?eid=189116=0D=0A=0D=0ADer Einlass zur JazzHall erfolgt über den Haupteingang der Hochschule=0D=0Afür Musik und Theater in der Milchstraße 12 - nicht über den=0D=0AHarvestehuder Weg.=0D=0A=0D=0AVeranstalter des Abends (bei Fragen zu Tickets oder Programm bitte=0D=0Adirekt kontaktieren): Jazz@HfMT (jazzhall@hfmt-hamburg.de)=0D=0A
URL;VALUE=URI:https://hamburgwhl.infomaxnet.de/standard_widget_de/e-myrsini-bekakou-ensemble-monta-tupcijenko-trio-band-night?eventDateId=30046031&widgetToken=22vcqFKw4GE.&
CLASS:PUBLIC
DTSTART:20260422T183000
DTSTAMP:20260422T052119
END:VEVENT
END:VCALENDAR